BEGIN:VCALENDAR
VERSION:2.0
PRODID:-//Discover Forsyth County - ECPv6.15.20//NONSGML v1.0//EN
CALSCALE:GREGORIAN
METHOD:PUBLISH
X-WR-CALNAME:Discover Forsyth County
X-ORIGINAL-URL:https://discoverfoco.com
X-WR-CALDESC:Events for Discover Forsyth County
REFRESH-INTERVAL;VALUE=DURATION:PT1H
X-Robots-Tag:noindex
X-PUBLISHED-TTL:PT1H
BEGIN:VTIMEZONE
TZID:America/New_York
BEGIN:DAYLIGHT
TZOFFSETFROM:-0500
TZOFFSETTO:-0400
TZNAME:EDT
DTSTART:20220313T070000
END:DAYLIGHT
BEGIN:STANDARD
TZOFFSETFROM:-0400
TZOFFSETTO:-0500
TZNAME:EST
DTSTART:20221106T060000
END:STANDARD
BEGIN:DAYLIGHT
TZOFFSETFROM:-0500
TZOFFSETTO:-0400
TZNAME:EDT
DTSTART:20230312T070000
END:DAYLIGHT
BEGIN:STANDARD
TZOFFSETFROM:-0400
TZOFFSETTO:-0500
TZNAME:EST
DTSTART:20231105T060000
END:STANDARD
BEGIN:DAYLIGHT
TZOFFSETFROM:-0500
TZOFFSETTO:-0400
TZNAME:EDT
DTSTART:20240310T070000
END:DAYLIGHT
BEGIN:STANDARD
TZOFFSETFROM:-0400
TZOFFSETTO:-0500
TZNAME:EST
DTSTART:20241103T060000
END:STANDARD
END:VTIMEZONE
BEGIN:VEVENT
DTSTART;TZID=America/New_York:20230722T110000
DTEND;TZID=America/New_York:20230722T140000
DTSTAMP:20260419T123822
CREATED:20230710T202605Z
LAST-MODIFIED:20230710T202605Z
UID:10003603-1690023600-1690034400@discoverfoco.com
SUMMARY:Summer BBQ Celebration
DESCRIPTION:Join us at The Collection at Forsyth: The Park on Saturday\, July 22 from 11am – 2pm for a Summer BBQ Celebration!\n\nWe will have:\n∙ BBQ\, Mellow Mushroom\, Carrabba’s & other food for sale\n∙ Wine & Beer from Wild Wings\n∙ Live Music from Local Artists\n∙ Artisan Vendors\n∙ Petting Zoo\n∙ Balloons & Airbrush Tattoos\n∙ Bouncy House\, Train Rides & Crafts\n∙ $200 BOTOX CERTIFICATE GIVEAWAY from Dermani Medspa!\n∙ Grill Giveaway!\n\nPlease bring school supplies to benefit The Place Forsyth and help support our community. Donate school supplies or cash and be entered into a drawing for a grill and botox!
URL:https://discoverfoco.com/event/summer-bbq-celebration-2/
LOCATION:The Collection at Forsyth\, 410 Peachtree Pkwy Ste.\, Cumming\, GA\, 30041\, United States
CATEGORIES:Animals,Arts & Crafts,Brews,Community,Food and Beverage,For a Good Cause,Kid-Friendly,Music,Outdoor,The Collection,Wine
ATTACH;FMTTYPE=image/jpeg:https://discoverfoco.com/wp-content/uploads/2023/07/Summer-BBQ-e1689020486763.jpg
END:VEVENT
BEGIN:VEVENT
DTSTART;TZID=America/New_York:20230722T100000
DTEND;TZID=America/New_York:20230722T160000
DTSTAMP:20260419T123822
CREATED:20230612T154729Z
LAST-MODIFIED:20230612T154729Z
UID:10003441-1690020000-1690041600@discoverfoco.com
SUMMARY:Christmas in July at 3 Oaks Farm
DESCRIPTION:Details TBA
URL:https://discoverfoco.com/event/christmas-in-july-at-3-oaks-farm/
LOCATION:3 Oaks Farm\, 3565 Tallant Dr.\, Cumming\, GA\, 30028\, United States
CATEGORIES:Arts & Crafts,Community,Farms and Agrotourism,Holiday,Kid-Friendly
ATTACH;FMTTYPE=image/jpeg:https://discoverfoco.com/wp-content/uploads/2023/06/qtq80-tVyttt.jpeg
ORGANIZER;CN="3 Oaks Farm":MAILTO:info@3oaksfarm.org
END:VEVENT
BEGIN:VEVENT
DTSTART;TZID=America/New_York:20230620T180000
DTEND;TZID=America/New_York:20230620T200000
DTSTAMP:20260419T123822
CREATED:20230612T192141Z
LAST-MODIFIED:20230612T192141Z
UID:10003445-1687284000-1687291200@discoverfoco.com
SUMMARY:Rise & Wine: Wicks and Wine Workshop
DESCRIPTION:Join Rise & Wine for an evening of wine tasting and candle making! Guests will create their own signature candle scent by blending and pouring into two different candle sizes\, an 8-ounce tin and a 10-ounce glass\, add in a raw crystal or a hidden message that will be revealed as the wax melts. Finish the candle by decorating it with dried flowers while sipping on a glass of wine. For more information or to purchase tickets\, visit the Halcyon Facebook event page.
URL:https://discoverfoco.com/event/rise-wine-wicks-and-wine-workshop/
LOCATION:Rise & Wine\, Halcyon 6655 Town Sq Ste 1285\, Alpharetta\, GA\, 30005\, United States
CATEGORIES:and Wine Experiences,Arts & Crafts,Community,Halcyon
ATTACH;FMTTYPE=image/jpeg:https://discoverfoco.com/wp-content/uploads/2023/06/Rise-and-Wine-Halcyon-e1686597663996.jpg
END:VEVENT
BEGIN:VEVENT
DTSTART;TZID=America/New_York:20230615T130000
DTEND;TZID=America/New_York:20230615T200000
DTSTAMP:20260419T123822
CREATED:20230613T140521Z
LAST-MODIFIED:20230613T140521Z
UID:10003507-1686834000-1686859200@discoverfoco.com
SUMMARY:Pieces and Peaches: Get Stacked Bracelet Bar
DESCRIPTION:Join us for a night of bracelets and bubbly! Get Stacked Beads will be in-store from 1-8 p.m. making custom stacks.
URL:https://discoverfoco.com/event/pieces-and-peaches-get-stacked-bracelet-bar/
LOCATION:Pieces and Peaches in the Cumming City Center\, 431 Vision Drive F103\, Cumming\, GA\, 30040\, United States
CATEGORIES:Arts & Crafts,Community,Cumming City Center,Just for Fun,Spirits
ATTACH;FMTTYPE=image/jpeg:https://discoverfoco.com/wp-content/uploads/2023/06/Peaches-e1686665089544.jpg
ORGANIZER;CN="Pieces and Peaches":MAILTO:landcpiecesandpeaches@gmail.com
END:VEVENT
BEGIN:VEVENT
DTSTART;TZID=America/New_York:20230513T110000
DTEND;TZID=America/New_York:20230513T180000
DTSTAMP:20260419T123822
CREATED:20230323T210645Z
LAST-MODIFIED:20230323T210645Z
UID:10001608-1683975600-1684000800@discoverfoco.com
SUMMARY:Mother's Day Makers Market at Vickery Village
DESCRIPTION:
URL:https://discoverfoco.com/event/mothers-day-makers-market-at-vickery-village/
LOCATION:Vickery Village\, 5855 South Vickery Street\, Cumming\, GA\, 30040\, United States
CATEGORIES:Arts & Crafts,Holiday,Kid-Friendly,Music,Outdoor,Vickery Village
ATTACH;FMTTYPE=image/jpeg:https://discoverfoco.com/wp-content/uploads/2023/03/mothersdaymarket.jpg
ORGANIZER;CN="Vickery Village":MAILTO:Info@vickeryvillageshops.com
END:VEVENT
END:VCALENDAR