BEGIN:VCALENDAR
VERSION:2.0
PRODID:-//Discover Forsyth County - ECPv6.15.20//NONSGML v1.0//EN
CALSCALE:GREGORIAN
METHOD:PUBLISH
X-WR-CALNAME:Discover Forsyth County
X-ORIGINAL-URL:https://discoverfoco.com
X-WR-CALDESC:Events for Discover Forsyth County
REFRESH-INTERVAL;VALUE=DURATION:PT1H
X-Robots-Tag:noindex
X-PUBLISHED-TTL:PT1H
BEGIN:VTIMEZONE
TZID:America/New_York
BEGIN:DAYLIGHT
TZOFFSETFROM:-0500
TZOFFSETTO:-0400
TZNAME:EDT
DTSTART:20230312T070000
END:DAYLIGHT
BEGIN:STANDARD
TZOFFSETFROM:-0400
TZOFFSETTO:-0500
TZNAME:EST
DTSTART:20231105T060000
END:STANDARD
BEGIN:DAYLIGHT
TZOFFSETFROM:-0500
TZOFFSETTO:-0400
TZNAME:EDT
DTSTART:20240310T070000
END:DAYLIGHT
BEGIN:STANDARD
TZOFFSETFROM:-0400
TZOFFSETTO:-0500
TZNAME:EST
DTSTART:20241103T060000
END:STANDARD
BEGIN:DAYLIGHT
TZOFFSETFROM:-0500
TZOFFSETTO:-0400
TZNAME:EDT
DTSTART:20250309T070000
END:DAYLIGHT
BEGIN:STANDARD
TZOFFSETFROM:-0400
TZOFFSETTO:-0500
TZNAME:EST
DTSTART:20251102T060000
END:STANDARD
END:VTIMEZONE
BEGIN:VEVENT
DTSTART;TZID=America/New_York:20241005T183000
DTEND;TZID=America/New_York:20241005T220000
DTSTAMP:20260420T021058
CREATED:20240801T154622Z
LAST-MODIFIED:20240801T154622Z
UID:10005147-1728153000-1728165600@discoverfoco.com
SUMMARY:Paws for Cocktails
DESCRIPTION:Join us for an evening of wagging tails\, purr-fect sips and a whole lot of love to support homeless animals in need!\n\nSaturday\, October 5th\, 2024\nTime: 6:30-10pm\nFurkids Headquarters: 5235 Union Hill Rd\, Cumming\, GA 30040\n\nTickets are $75 per guest and include an open bar\, live & silent auctions\, dinner\, live music and more! Attire is dressy casual.\nDollars raised by attendees\, donors and auction participants directly impact the animals in our care and those in desperate need of help.\n\nTogether\, we have the power to make a difference and bring hope to countless animals!\n\nTickets: https://pfc24.givesmart.com/\nEvent Info: https://furkids.org/paws-for-cocktails-2024
URL:https://discoverfoco.com/event/paws-for-cocktails/
LOCATION:Furkids Campus (Cumming)\, 5235 Union Hill Rd\, Cumming\, GA\, 30040\, United States
CATEGORIES:and Wine Experiences,Animals,Breweries,Breweries and Distilleries,Brews,Community,Concerts,Food and Beverage,For a Good Cause,Just for Fun,Music,Outdoor,Wine
ATTACH;FMTTYPE=image/png:https://discoverfoco.com/wp-content/uploads/2024/08/PFC2024-Post.png
END:VEVENT
END:VCALENDAR