BEGIN:VCALENDAR
VERSION:2.0
PRODID:-//Discover Forsyth County - ECPv6.15.20//NONSGML v1.0//EN
CALSCALE:GREGORIAN
METHOD:PUBLISH
X-WR-CALNAME:Discover Forsyth County
X-ORIGINAL-URL:https://discoverfoco.com
X-WR-CALDESC:Events for Discover Forsyth County
REFRESH-INTERVAL;VALUE=DURATION:PT1H
X-Robots-Tag:noindex
X-PUBLISHED-TTL:PT1H
BEGIN:VTIMEZONE
TZID:America/New_York
BEGIN:DAYLIGHT
TZOFFSETFROM:-0500
TZOFFSETTO:-0400
TZNAME:EDT
DTSTART:20240310T070000
END:DAYLIGHT
BEGIN:STANDARD
TZOFFSETFROM:-0400
TZOFFSETTO:-0500
TZNAME:EST
DTSTART:20241103T060000
END:STANDARD
BEGIN:DAYLIGHT
TZOFFSETFROM:-0500
TZOFFSETTO:-0400
TZNAME:EDT
DTSTART:20250309T070000
END:DAYLIGHT
BEGIN:STANDARD
TZOFFSETFROM:-0400
TZOFFSETTO:-0500
TZNAME:EST
DTSTART:20251102T060000
END:STANDARD
BEGIN:DAYLIGHT
TZOFFSETFROM:-0500
TZOFFSETTO:-0400
TZNAME:EDT
DTSTART:20260308T070000
END:DAYLIGHT
BEGIN:STANDARD
TZOFFSETFROM:-0400
TZOFFSETTO:-0500
TZNAME:EST
DTSTART:20261101T060000
END:STANDARD
END:VTIMEZONE
BEGIN:VEVENT
DTSTART;TZID=America/New_York:20250426T130000
DTEND;TZID=America/New_York:20250426T160000
DTSTAMP:20260419T150420
CREATED:20240521T210253Z
LAST-MODIFIED:20250418T172246Z
UID:10003444-1745672400-1745683200@discoverfoco.com
SUMMARY:Cumming Beer Fest
DESCRIPTION:Enjoy Craft Beer Tastings\, Live Music\, & More at the Cumming Beer Festival\nCome out and join us for the 3rd Annual Cumming Beer Festival at the Cumming City Center Lou Sobh Amphitheater! Listen to an impressive lineup of live music from 1:00 p.m. to 4:00 p.m.\, with VIP early access at 12:00 pm. Enjoy beer samplings from local breweries from all over the country along with live music from Sucker Punch. \nVisit the Cumming Beer Festival Facebook Page for more information
URL:https://discoverfoco.com/event/cumming-beer-fest/
LOCATION:Lou Sobh Amphitheater – Cumming City Center\, 423 Canton Road\, Cumming\, GA\, United States
CATEGORIES:Breweries and Distilleries,Distilleries,Fairs & Festivals,Food and Beverage,Music
ATTACH;FMTTYPE=image/png:https://discoverfoco.com/wp-content/uploads/2024/05/cumming-beer-festival-in-cumming-ga.png
END:VEVENT
END:VCALENDAR