BEGIN:VCALENDAR
VERSION:2.0
PRODID:-//Discover Forsyth County - ECPv6.15.20//NONSGML v1.0//EN
CALSCALE:GREGORIAN
METHOD:PUBLISH
X-WR-CALNAME:Discover Forsyth County
X-ORIGINAL-URL:https://discoverfoco.com
X-WR-CALDESC:Events for Discover Forsyth County
REFRESH-INTERVAL;VALUE=DURATION:PT1H
X-Robots-Tag:noindex
X-PUBLISHED-TTL:PT1H
BEGIN:VTIMEZONE
TZID:America/New_York
BEGIN:DAYLIGHT
TZOFFSETFROM:-0500
TZOFFSETTO:-0400
TZNAME:EDT
DTSTART:20250309T070000
END:DAYLIGHT
BEGIN:STANDARD
TZOFFSETFROM:-0400
TZOFFSETTO:-0500
TZNAME:EST
DTSTART:20251102T060000
END:STANDARD
BEGIN:DAYLIGHT
TZOFFSETFROM:-0500
TZOFFSETTO:-0400
TZNAME:EDT
DTSTART:20260308T070000
END:DAYLIGHT
BEGIN:STANDARD
TZOFFSETFROM:-0400
TZOFFSETTO:-0500
TZNAME:EST
DTSTART:20261101T060000
END:STANDARD
BEGIN:DAYLIGHT
TZOFFSETFROM:-0500
TZOFFSETTO:-0400
TZNAME:EDT
DTSTART:20270314T070000
END:DAYLIGHT
BEGIN:STANDARD
TZOFFSETFROM:-0400
TZOFFSETTO:-0500
TZNAME:EST
DTSTART:20271107T060000
END:STANDARD
END:VTIMEZONE
BEGIN:VEVENT
DTSTART;TZID=America/New_York:20260613T200000
DTEND;TZID=America/New_York:20260613T220000
DTSTAMP:20260420T061830
CREATED:20260304T151916Z
LAST-MODIFIED:20260304T151916Z
UID:10005910-1781380800-1781388000@discoverfoco.com
SUMMARY:Love Story: An Unofficial Tribute to Taylor Swift – Live in Cumming\, GA
DESCRIPTION:Experience an exciting night of live music in Cumming\, Georgia with Love Story: An Unofficial Tribute to Taylor Swift. This high-energy show is part of the Summer Concert Series at the Lou Sobh Amphitheater at Cumming City Center. \nThe concert stars Rikki Lee Wilson\, one of the top Taylor Swift tribute performers in North America. She recreates the energy\, vocals\, and stage presence that Taylor Swift fans love. \nA Concert Experience for Swifties\nFans will enjoy a live performance that celebrates many of Taylor Swift’s biggest hits. The show features: \n\n\nPopular songs like “Shake It Off\,” “Blank Space\,” and “Love Story” \n\n\nMultiple costume changes inspired by Taylor Swift tours \n\n\nA live band performing fan-favorite songs \n\n\nAn energetic atmosphere that feels like a real pop concert \n\n\nIf you love Taylor Swift’s music\, this tribute concert near Atlanta is a must-see event. \nEvent Details\nLocation: Lou Sobh Amphitheater at Cumming City CenterCity: Cumming\, GAAdmission: FreeParking: Free \nThis performance is part of the Summer Concert Series presented by The Providence Group. \nEvent Guidelines\nTo keep the event safe and enjoyable for everyone: \n\n\nNo coolers\, outside food\, outside alcohol\, cans\, or glass bottles \n\n\nNo smoking \n\n\nFriendly dogs are welcome but must stay on a leash \n\n\nBring lawn chairs or blankets for seating \n\n\nTents are not allowed \n\n\nOnce the music begins\, all balls and sports equipment must be put away. Throwing or kicking objects during the concert is not allowed.
URL:https://discoverfoco.com/event/taylor-swift-tribute-concert-cumming-ga/
LOCATION:Lou Sobh Amphitheater – Cumming City Center\, 423 Canton Road\, Cumming\, GA\, United States
CATEGORIES:Concerts,Cumming City Center,Kid-Friendly,Music,Outdoor,Pet Friendly
ATTACH;FMTTYPE=image/jpeg:https://discoverfoco.com/wp-content/uploads/2026/03/taylor-swift-tribute-e1772636931745.jpg
END:VEVENT
END:VCALENDAR