BEGIN:VCALENDAR
VERSION:2.0
PRODID:-//Discover Forsyth County - ECPv6.15.20//NONSGML v1.0//EN
CALSCALE:GREGORIAN
METHOD:PUBLISH
X-WR-CALNAME:Discover Forsyth County
X-ORIGINAL-URL:https://discoverfoco.com
X-WR-CALDESC:Events for Discover Forsyth County
REFRESH-INTERVAL;VALUE=DURATION:PT1H
X-Robots-Tag:noindex
X-PUBLISHED-TTL:PT1H
BEGIN:VTIMEZONE
TZID:America/New_York
BEGIN:DAYLIGHT
TZOFFSETFROM:-0500
TZOFFSETTO:-0400
TZNAME:EDT
DTSTART:20220313T070000
END:DAYLIGHT
BEGIN:STANDARD
TZOFFSETFROM:-0400
TZOFFSETTO:-0500
TZNAME:EST
DTSTART:20221106T060000
END:STANDARD
BEGIN:DAYLIGHT
TZOFFSETFROM:-0500
TZOFFSETTO:-0400
TZNAME:EDT
DTSTART:20230312T070000
END:DAYLIGHT
BEGIN:STANDARD
TZOFFSETFROM:-0400
TZOFFSETTO:-0500
TZNAME:EST
DTSTART:20231105T060000
END:STANDARD
BEGIN:DAYLIGHT
TZOFFSETFROM:-0500
TZOFFSETTO:-0400
TZNAME:EDT
DTSTART:20240310T070000
END:DAYLIGHT
BEGIN:STANDARD
TZOFFSETFROM:-0400
TZOFFSETTO:-0500
TZNAME:EST
DTSTART:20241103T060000
END:STANDARD
BEGIN:DAYLIGHT
TZOFFSETFROM:-0500
TZOFFSETTO:-0400
TZNAME:EDT
DTSTART:20250309T070000
END:DAYLIGHT
BEGIN:STANDARD
TZOFFSETFROM:-0400
TZOFFSETTO:-0500
TZNAME:EST
DTSTART:20251102T060000
END:STANDARD
END:VTIMEZONE
BEGIN:VEVENT
DTSTART;TZID=America/New_York:20240426T190000
DTEND;TZID=America/New_York:20240426T220000
DTSTAMP:20260420T062817
CREATED:20240418T165608Z
LAST-MODIFIED:20240418T165608Z
UID:10005122-1714158000-1714168800@discoverfoco.com
SUMMARY:Smokey Jones and the 3 Dollar Pistols
DESCRIPTION:Smokey Jones and The 3 Dollar Pistols\nPresented by Cumming City Center and Four Carson’s Entertainment at Lou Sobh Amphitheater\nBringing back real country music one gig at a time\, Smokey Jones and the 3 Dollar Pistols specialize in music from George\, Merle\, Hank\, Buck\, Dwight\, Garth\, Tom Petty and many more. From classics to the 90s\, Smokey and the boys take you on a tour through several decades of great country music while keeping the crowd dancing and having a great time. \nReminders: BYO lawn chairs or blankets. Friendly\, leashed dogs welcome! Free parking & free admission! No coolers\, no outside food or alcohol\, no glass or cans\, no smoking (including vaping\, cigars\, etc.)\, and no tents.
URL:https://discoverfoco.com/event/smokey-jones-and-the-3-dollar-pistols/
LOCATION:Lou Sobh Amphitheater – Cumming City Center\, 423 Canton Road\, Cumming\, GA\, United States
CATEGORIES:Community,Concerts,Cumming City Center,Food and Beverage,Just for Fun,Kid-Friendly,Music,Outdoor,Pet Friendly
ATTACH;FMTTYPE=image/png:https://discoverfoco.com/wp-content/uploads/2024/04/Smokey-Jones.png
END:VEVENT
BEGIN:VEVENT
DTSTART;TZID=America/New_York:20240420T190000
DTEND;TZID=America/New_York:20240420T220000
DTSTAMP:20260420T062817
CREATED:20240418T165250Z
LAST-MODIFIED:20240418T165250Z
UID:10005121-1713639600-1713650400@discoverfoco.com
SUMMARY:Double Take at Lou Sobh Amphitheater
DESCRIPTION:Presented by The Well\, Los Rios Cantina and Tin Cup Grill at Lou Sobh Amphitheater \nFree admission & free parking. \nNo coolers\, outside food\, outside alcoholic beverages\, cans\, glass bottles\, or smoking allowed. \nFriendly dogs on-leash are welcome! BYO lawn chairs or blankets to sit on. Tents are not allowed.
URL:https://discoverfoco.com/event/double-take-at-lou-sobh-amphitheater/
LOCATION:Lou Sobh Amphitheater – Cumming City Center\, 423 Canton Road\, Cumming\, GA\, United States
CATEGORIES:Community,Concerts,Cumming City Center,Food and Beverage,Kid-Friendly,Music,Outdoor,Pet Friendly
ATTACH;FMTTYPE=image/png:https://discoverfoco.com/wp-content/uploads/2024/04/Double-Take.png
END:VEVENT
BEGIN:VEVENT
DTSTART;VALUE=DATE:20240329
DTEND;VALUE=DATE:20241026
DTSTAMP:20260420T062817
CREATED:20240807T143925Z
LAST-MODIFIED:20240807T143925Z
UID:10005187-1711670400-1729900799@discoverfoco.com
SUMMARY:Groovin' on the Green
DESCRIPTION:Meet us in the Village Green every Friday and Saturday evening through October 25th for live acoustic music. We’ve selected talented local musicians that we know you will enjoy! Grab dinner\, drinks and dessert from one of our 22 dining destinations and picnic on the Green while you enjoy live music.\n\nFollow our Halcyon social media where we’ll let you know who is performing each weekend. For more information\, visit the Halcyon Facebook event page.
URL:https://discoverfoco.com/event/groovin-on-the-green/
LOCATION:Halcyon\, 6365 Halcyon Way\, Alpharetta\, GA\, 30005\, United States
CATEGORIES:Brews,Community,Concerts,Halcyon,Music,Outdoor
ATTACH;FMTTYPE=image/jpeg:https://discoverfoco.com/wp-content/uploads/2023/07/groovin-e1688667186411.jpg
END:VEVENT
BEGIN:VEVENT
DTSTART;TZID=America/New_York:20230909T190000
DTEND;TZID=America/New_York:20230909T210000
DTSTAMP:20260420T062817
CREATED:20230526T163732Z
LAST-MODIFIED:20230526T163732Z
UID:10001626-1694286000-1694293200@discoverfoco.com
SUMMARY:Interstellar Echoes: A Tribute to Pink Floyd - Lou Sobh Amphitheater
DESCRIPTION:Join us for Interstellar Echoes! The Southeast’s premier Pink Floyd Tribute band\, Interstellar Echoes pride themselves on accurately reproducing the legendary catalog of Pink Floyd.\n\n\nFree admission & free parking. Outside food can be brought in but coolers\, cans\, bottles\, and all alcoholic beverages are not allowed. BYO lawn chairs or blankets to sit on. Friendly dogs on-leash are welcome!
URL:https://discoverfoco.com/event/interstellar-echoes-a-tribute-to-pink-floyd-lou-sobh-amphitheater/
LOCATION:Lou Sobh Amphitheater – Cumming City Center\, 423 Canton Road\, Cumming\, GA\, United States
CATEGORIES:Concerts,Cumming City Center,Music,Outdoor
ATTACH;FMTTYPE=image/jpeg:https://discoverfoco.com/wp-content/uploads/2023/05/348326996_1279077412817345_4550671874174759748_n.jpg
ORGANIZER;CN="Cumming City Center":MAILTO:info@cityofcumming.net
END:VEVENT
BEGIN:VEVENT
DTSTART;TZID=America/New_York:20230909T130000
DTEND;TZID=America/New_York:20230909T180000
DTSTAMP:20260420T062817
CREATED:20230629T155304Z
LAST-MODIFIED:20230629T155304Z
UID:10003589-1694264400-1694282400@discoverfoco.com
SUMMARY:Pepperfest
DESCRIPTION:Turn up the heat at our first-ever Pepperfest\, our early bird ticket sales are available now! We’re spicing things up with this brand-new fest concept through a perfect fusion of craft beer\, culinary arts\, and horticulture all in one glorious day at Cherry Street Brewing’s Halcyon location. There will be award-winning brews\, spicy foods\, and music to groove to at this family-friendly fest- kids and DD’s get in for free! Joining in on the fun will be local food\, art\, and farm vendors sharing their fiery passions plus a pepper plant swap to celebrate the joy of growing your own. \n  \nDon’t get burned by missing this fest – get your early bird tickets now through the link below. Come join us for a day of beer\, food\, and zest at Pepperfest!
URL:https://discoverfoco.com/event/pepperfest/
LOCATION:Cherry Street Brewpub at Halcyon\, 6640 Town Sq Ste 510\, Alpharetta\, GA\, 30005\, United States
CATEGORIES:Arts & Crafts,Breweries,Community,Concerts,Food and Beverage,Halcyon,Just for Fun,Kid-Friendly,Music
ATTACH;FMTTYPE=image/jpeg:https://discoverfoco.com/wp-content/uploads/2023/06/pepper-e1688053962103.jpg
END:VEVENT
BEGIN:VEVENT
DTSTART;TZID=America/New_York:20230826T190000
DTEND;TZID=America/New_York:20230826T210000
DTSTAMP:20260420T062817
CREATED:20230526T163553Z
LAST-MODIFIED:20230526T163553Z
UID:10001625-1693076400-1693083600@discoverfoco.com
SUMMARY:Highwaymen Show - Lou Sobh Amphitheater
DESCRIPTION:The Highwaymen Show is the Great American Outlaw musical celebrating the world’s most recognized classic country artists. These icons are responsible for creating a new era in country music. The show features a cast portraying the parts of Johnny Cash\, Willie Nelson\, Waylon Jennings and Kris Kristofferson\, as they looked in their prime. They perform their biggest hits\, while telling the stories about how they grew together as friends. This show gives you the opportunity to see what they looked like and what they sounded like as they became the superstars we know today. “We feature songs like Always on My Mind\, Ring of Fire\, Me and Bobby McGee and Luckenbach Texas. I wanted to provide people the opportunity to see a show I wish I could have seen\,” said the show’s creator.\n\nFree admission and free parking. Food and alcohol vendors on-site; outside food can be brought in but NO coolers\, cans\, bottles or alcohol can be brought in. Friendly dogs on-leash are welcome. BYO lawn chairs or blankets to sit on
URL:https://discoverfoco.com/event/highwaymen-show-lou-sobh-amphitheater/
LOCATION:Lou Sobh Amphitheater – Cumming City Center\, 423 Canton Road\, Cumming\, GA\, United States
CATEGORIES:Concerts,Cumming City Center,Music,Outdoor
ATTACH;FMTTYPE=image/jpeg:https://discoverfoco.com/wp-content/uploads/2023/05/347092298_636796184549654_986669469749641829_n.jpg
ORGANIZER;CN="Cumming City Center":MAILTO:info@cityofcumming.net
END:VEVENT
BEGIN:VEVENT
DTSTART;TZID=America/New_York:20230818T190000
DTEND;TZID=America/New_York:20230818T220000
DTSTAMP:20260420T062817
CREATED:20230526T163347Z
LAST-MODIFIED:20230526T163347Z
UID:10001624-1692385200-1692396000@discoverfoco.com
SUMMARY:Bogey and the Viceroy in Concert - Lou Sobh Amphitheater
DESCRIPTION:Born and raised in New Orleans\, bandleader Bogey Thornton is a powerful vocalist and talented musician. But more than that\, he is an entertainer. His positive attitude is contagious\, and his high-energy performances are unforgettable.\n\nBogey’s backing band\, The Viceroy\, is comprised of Atlanta music scene veterans. These handsome troubadours ply their trade with much derring-do. From swinging Sinatra to retro hits of the 60’s\, 70’s\, 80’s and current chart-toppers\, Bogey & the Viceroy performances lead to packed dance floors and good times.\n\nFree admission and parking. Outside food can be brought in but NO coolers\, bottles\, cans or alcohol can be brought in; food and alcohol vendors on-site. Friendly dogs on-leash are welcome. BYO lawn chairs or blankets to sit on.
URL:https://discoverfoco.com/event/bogey-and-the-viceroy-in-concert-lou-sobh-amphitheater/
LOCATION:Lou Sobh Amphitheater – Cumming City Center\, 423 Canton Road\, Cumming\, GA\, United States
CATEGORIES:Concerts,Cumming City Center,Music,Outdoor
ATTACH;FMTTYPE=image/jpeg:https://discoverfoco.com/wp-content/uploads/2023/05/347586958_3087249131421865_5365209344217576780_n.jpg
ORGANIZER;CN="Cumming City Center":MAILTO:info@cityofcumming.net
END:VEVENT
BEGIN:VEVENT
DTSTART;TZID=America/New_York:20230712T190000
DTEND;TZID=America/New_York:20230712T210000
DTSTAMP:20260420T062817
CREATED:20230526T162954Z
LAST-MODIFIED:20230526T162954Z
UID:10001622-1689188400-1689195600@discoverfoco.com
SUMMARY:Bourbon Brothers Band in Concert - Lou Sobh Amphitheater
DESCRIPTION:Take a mid-week break to unwind and listen to the cool jazz sounds of The Bourbon Brothers Band in concert at the Lou Sobh Amphitheater!\n\nThe Bourbon Brothers channel the great Frank Sinatra as they sip bourbon and play classics from the Great American Songbook. Their show is always full of more than just great songs because they believe that entertainment is more than just playing songs at an audience. You will feel like you are in a private concert with their witty banter\, laughs\, and audience engagement.\n\nThe Bourbon Brothers Band bring to life the stories and lessons of the great American Songbook with the grace and savior faire of the great age of the 1950’s. Perfect for all ages and audiences\, the Bourbon Brothers Band always performs in their timeless 50’s black suits and ties to deliver an upscale jazz performance with an impressive repertoire of classic songs and a dash of dinner theatre.
URL:https://discoverfoco.com/event/bourbon-brothers-band-in-concert-lou-sobh-amphitheater/
LOCATION:Lou Sobh Amphitheater – Cumming City Center\, 423 Canton Road\, Cumming\, GA\, United States
CATEGORIES:Concerts,Cumming City Center,Music,Outdoor
ATTACH;FMTTYPE=image/jpeg:https://discoverfoco.com/wp-content/uploads/2023/05/342197687_553289743644220_4822589265281838934_n.jpg
ORGANIZER;CN="Cumming City Center":MAILTO:info@cityofcumming.net
END:VEVENT
BEGIN:VEVENT
DTSTART;TZID=America/New_York:20230707T190000
DTEND;TZID=America/New_York:20230707T220000
DTSTAMP:20260420T062817
CREATED:20230526T161720Z
LAST-MODIFIED:20230622T143133Z
UID:10001621-1688756400-1688767200@discoverfoco.com
SUMMARY:A1A: The Official Jimmy Buffett Tribute - Lou Sobh Amphitheater
DESCRIPTION:Join us for the official Jimmy Buffett Tribute Show: A1A! The Official and Original Jimmy Buffett Tribute Show was born in 1991 when Lead Vocalist and Guitarist\, Jeff Pike\, asked Atlanta Parrot Head Club and PHIP Founder\, Scott Nickerson\, to join him in his already successful one-man tribute to Jimmy Buffett. In 1992\, the band won a Jimmy Buffett Sound Alike Contest for Margaritaville Records and the A1A ball started rolling – a ball that is still rolling 30 years later.\n\nA1A performs as a seven to a ten piece band\, complete with audio and light production\, bringing to life a colorful and energetic family friendly Jimmy Buffett Tribute Show. For added ambiance and realism\, the A1A Beachwrecked Pirates is a sure fire way to boost up the enthusiasm and energy!\n\nThe energy\, musicianship\, originality\, and excitement that have always surrounded an A1A performance is an experience and a driving force that has helped the band remain the first and foremost Jimmy Buffett Tribute Show in history.\n\nFree admission & free parking. Outside food can be brought in but coolers\, cans\, bottles\, and all alcoholic beverages are not allowed
URL:https://discoverfoco.com/event/a1a-the-official-jimmy-buffett-tribute-lou-sob-amphitheater/
LOCATION:Lou Sobh Amphitheater – Cumming City Center\, 423 Canton Road\, Cumming\, GA\, United States
CATEGORIES:Concerts,Cumming City Center,Music,Outdoor
ATTACH;FMTTYPE=image/jpeg:https://discoverfoco.com/wp-content/uploads/2023/05/341010196_188573760644075_1946572484547807963_n.jpg
ORGANIZER;CN="Cumming City Center":MAILTO:info@cityofcumming.net
END:VEVENT
END:VCALENDAR