BEGIN:VCALENDAR
VERSION:2.0
PRODID:-//Discover Forsyth County - ECPv6.15.20//NONSGML v1.0//EN
CALSCALE:GREGORIAN
METHOD:PUBLISH
X-WR-CALNAME:Discover Forsyth County
X-ORIGINAL-URL:https://discoverfoco.com
X-WR-CALDESC:Events for Discover Forsyth County
REFRESH-INTERVAL;VALUE=DURATION:PT1H
X-Robots-Tag:noindex
X-PUBLISHED-TTL:PT1H
BEGIN:VTIMEZONE
TZID:America/New_York
BEGIN:DAYLIGHT
TZOFFSETFROM:-0500
TZOFFSETTO:-0400
TZNAME:EDT
DTSTART:20240310T070000
END:DAYLIGHT
BEGIN:STANDARD
TZOFFSETFROM:-0400
TZOFFSETTO:-0500
TZNAME:EST
DTSTART:20241103T060000
END:STANDARD
BEGIN:DAYLIGHT
TZOFFSETFROM:-0500
TZOFFSETTO:-0400
TZNAME:EDT
DTSTART:20250309T070000
END:DAYLIGHT
BEGIN:STANDARD
TZOFFSETFROM:-0400
TZOFFSETTO:-0500
TZNAME:EST
DTSTART:20251102T060000
END:STANDARD
BEGIN:DAYLIGHT
TZOFFSETFROM:-0500
TZOFFSETTO:-0400
TZNAME:EDT
DTSTART:20260308T070000
END:DAYLIGHT
BEGIN:STANDARD
TZOFFSETFROM:-0400
TZOFFSETTO:-0500
TZNAME:EST
DTSTART:20261101T060000
END:STANDARD
END:VTIMEZONE
BEGIN:VEVENT
DTSTART;TZID=America/New_York:20251002T180000
DTEND;TZID=America/New_York:20251002T200000
DTSTAMP:20260421T180037
CREATED:20250219T214320Z
LAST-MODIFIED:20250813T130547Z
UID:10005882-1759428000-1759435200@discoverfoco.com
SUMMARY:Tin Cup Cruise-In Car Show
DESCRIPTION:Get ready for an evening of classic cars and family fun! The Tin Cup Cruise-In Car Show will take place at the Cumming City Center from 6pm-8pm on the first Thursday of every month beginning in April and running through October. \nAt 5 pm classic cars can enter through the Canton Road entrance and park up the main street on a first come first serve basis. The street will be closed off prior to the event and once all car slots are full. \nAdmission and parking are free. Parking will be available in the parking deck and overflow lots. \nThere will be prizes from our very own Tin Cup! Don’t miss out on this exciting Cumming City Center event! \nDate\nApril 3 through October at 6 pm – 8 pm on the first Thursday of every month
URL:https://discoverfoco.com/event/tin-cup-cruise-in-car-show/2025-10-02/
LOCATION:Cumming City Center\, 423 Canton Rd.\, Cumming\, GA\, 30040\, United States
CATEGORIES:Cars/Trucks,Cumming City Center
ATTACH;FMTTYPE=image/png:https://discoverfoco.com/wp-content/uploads/2025/02/tin-cup-car-show.png
END:VEVENT
END:VCALENDAR