BEGIN:VCALENDAR
VERSION:2.0
PRODID:-//Discover Forsyth County - ECPv6.15.20//NONSGML v1.0//EN
CALSCALE:GREGORIAN
METHOD:PUBLISH
X-ORIGINAL-URL:https://discoverfoco.com
X-WR-CALDESC:Events for Discover Forsyth County
REFRESH-INTERVAL;VALUE=DURATION:PT1H
X-Robots-Tag:noindex
X-PUBLISHED-TTL:PT1H
BEGIN:VTIMEZONE
TZID:America/New_York
BEGIN:DAYLIGHT
TZOFFSETFROM:-0500
TZOFFSETTO:-0400
TZNAME:EDT
DTSTART:20240310T070000
END:DAYLIGHT
BEGIN:STANDARD
TZOFFSETFROM:-0400
TZOFFSETTO:-0500
TZNAME:EST
DTSTART:20241103T060000
END:STANDARD
BEGIN:DAYLIGHT
TZOFFSETFROM:-0500
TZOFFSETTO:-0400
TZNAME:EDT
DTSTART:20250309T070000
END:DAYLIGHT
BEGIN:STANDARD
TZOFFSETFROM:-0400
TZOFFSETTO:-0500
TZNAME:EST
DTSTART:20251102T060000
END:STANDARD
BEGIN:DAYLIGHT
TZOFFSETFROM:-0500
TZOFFSETTO:-0400
TZNAME:EDT
DTSTART:20260308T070000
END:DAYLIGHT
BEGIN:STANDARD
TZOFFSETFROM:-0400
TZOFFSETTO:-0500
TZNAME:EST
DTSTART:20261101T060000
END:STANDARD
END:VTIMEZONE
BEGIN:VEVENT
DTSTART;TZID=America/New_York:20251111T110000
DTEND;TZID=America/New_York:20251111T123000
DTSTAMP:20260421T162028
CREATED:20240822T183244Z
LAST-MODIFIED:20251015T173321Z
UID:10005512-1762858800-1762864200@discoverfoco.com
SUMMARY:Veteran's Day Ceremony at Cumming City Center
DESCRIPTION:Join the Vietnam Veterans of America Chapter 1030 as they present the Annual Veterans Day Ceremony at the Cumming City Center Lou Sobh Amphitheater. This special event will feature a keynote address\, student musical performances\, and a heartfelt salute to all who have served our nation. \nAttendees are encouraged to use the amphitheater seat wall or bring lawn chairs. The ceremony will take place rain or shine.
URL:https://discoverfoco.com/event/veterans-day-ceremony-at-cumming-city-center/
LOCATION:GA
CATEGORIES:Community,Cumming City Center,For a Good Cause,Holiday,Kid-Friendly,Outdoor
ATTACH;FMTTYPE=image/png:https://discoverfoco.com/wp-content/uploads/2024/08/Annual-Veterans-Day-Ceremony-Cumming-City-Center-.png
END:VEVENT
END:VCALENDAR