BEGIN:VCALENDAR
VERSION:2.0
PRODID:-//Discover Forsyth County - ECPv6.15.20//NONSGML v1.0//EN
CALSCALE:GREGORIAN
METHOD:PUBLISH
X-ORIGINAL-URL:https://discoverfoco.com
X-WR-CALDESC:Events for Discover Forsyth County
REFRESH-INTERVAL;VALUE=DURATION:PT1H
X-Robots-Tag:noindex
X-PUBLISHED-TTL:PT1H
BEGIN:VTIMEZONE
TZID:America/New_York
BEGIN:DAYLIGHT
TZOFFSETFROM:-0500
TZOFFSETTO:-0400
TZNAME:EDT
DTSTART:20240310T070000
END:DAYLIGHT
BEGIN:STANDARD
TZOFFSETFROM:-0400
TZOFFSETTO:-0500
TZNAME:EST
DTSTART:20241103T060000
END:STANDARD
BEGIN:DAYLIGHT
TZOFFSETFROM:-0500
TZOFFSETTO:-0400
TZNAME:EDT
DTSTART:20250309T070000
END:DAYLIGHT
BEGIN:STANDARD
TZOFFSETFROM:-0400
TZOFFSETTO:-0500
TZNAME:EST
DTSTART:20251102T060000
END:STANDARD
BEGIN:DAYLIGHT
TZOFFSETFROM:-0500
TZOFFSETTO:-0400
TZNAME:EDT
DTSTART:20260308T070000
END:DAYLIGHT
BEGIN:STANDARD
TZOFFSETFROM:-0400
TZOFFSETTO:-0500
TZNAME:EST
DTSTART:20261101T060000
END:STANDARD
BEGIN:DAYLIGHT
TZOFFSETFROM:-0500
TZOFFSETTO:-0400
TZNAME:EDT
DTSTART:20270314T070000
END:DAYLIGHT
BEGIN:STANDARD
TZOFFSETFROM:-0400
TZOFFSETTO:-0500
TZNAME:EST
DTSTART:20271107T060000
END:STANDARD
END:VTIMEZONE
BEGIN:VEVENT
DTSTART;VALUE=DATE:20251227
DTEND;VALUE=DATE:20260531
DTSTAMP:20260421T181309
CREATED:20241204T134219Z
LAST-MODIFIED:20251222T180349Z
UID:10005184-1766793600-1780185599@discoverfoco.com
SUMMARY:Cumming Farmers Market at the City Center
DESCRIPTION:Local Finds at the Cumming Farmers Market in Forsyth County\nEvery Saturday from 7 am – 10 am\, the Cumming City Center Farmers Market showcases fresh\, locally-sourced products and handmade goods from Forsyth County vendors. \nFresh from Local Farms:\n\nFarm-fresh produce\nFarm-raised meats\nEggs\nHoney\nHomemade breads and desserts\nJams and jellies\n\nUnique Gifts & More:\nBrowse handmade arts and crafts\, potted plants\, and one-of-a-kind gift ideas. \nLocation & Parking:\nThe market is located in the Vision Parkway parking lot\, immediately to the left as you enter the City Center from Canton Highway. Parking is available in this lot and along Vision Parkway. Please note that Vision Drive\, Merchant Way\, and the amphitheater and putting course areas are closed during market hours. \nVisit the Cumming Farmers Market Facebook page for more info.
URL:https://discoverfoco.com/event/cumming-farmers-market/
LOCATION:Cumming City Center\, 423 Canton Rd.\, Cumming\, GA\, 30040\, United States
CATEGORIES:Cumming City Center,Farmers Market
ATTACH;FMTTYPE=image/png:https://discoverfoco.com/wp-content/uploads/2024/12/Cumming-Farmers-Market-Cumming-City-Center-1.png
END:VEVENT
BEGIN:VEVENT
DTSTART;TZID=America/New_York:20260314T110000
DTEND;TZID=America/New_York:20260314T210000
DTSTAMP:20260421T181309
CREATED:20260303T215728Z
LAST-MODIFIED:20260304T134806Z
UID:10005907-1773486000-1773522000@discoverfoco.com
SUMMARY:3rd Annual St. Paddy’s Day RockFest | Lou Sobh Amphitheater in Cumming\, GA
DESCRIPTION:Celebrate St. Patrick’s Day weekend at the 3rd Annual St. Paddy’s Day RockFest on Saturday\, March 14 at the Lou Sobh Amphitheater in Cumming\, Georgia. Presented by Cumming City Center\, this free outdoor music festival is open to the public and features a full day of live rock\, pop\, and R&B performances in Forsyth County. \nIf you’re searching for St. Patrick’s Day events in Cumming GA\, free concerts near Atlanta\, or live music in Forsyth County\, RockFest is the place to be. \n🎶 Live Music Lineup (11 AM – 9 PM)\n\n\n11:00 AM – The Relics (Classic Rock) \n\n\n1:00 PM – Rhythm Major Band (Top 40s R&B & Pop) \n\n\n3:00 PM – Sorrow 2 Seven (2000s Pop-Punk / Emo) \n\n\n5:00 PM – 80HD (80s Rock & Pop) \n\n\n7:00 PM – Jeremy Would Let Me Drown (90s Grunge) \n\n\nEnjoy nine hours of nonstop entertainment featuring classic rock\, 80s hits\, 90s grunge\, 2000s pop-punk\, and Top 40 favorites.
URL:https://discoverfoco.com/event/3rd-annual-st-paddys-day-rockfest-lou-sobh-amphitheater-in-cumming-ga/
LOCATION:Lou Sobh Amphitheater – Cumming City Center\, 423 Canton Road\, Cumming\, GA\, United States
CATEGORIES:Concerts,Cumming City Center,Fairs & Festivals,Holiday
ATTACH;FMTTYPE=image/jpeg:https://discoverfoco.com/wp-content/uploads/2026/03/st-Paddys-Day-Rockfest-1.jpg
END:VEVENT
END:VCALENDAR