BEGIN:VCALENDAR
VERSION:2.0
PRODID:-//Discover Forsyth County - ECPv6.15.20//NONSGML v1.0//EN
CALSCALE:GREGORIAN
METHOD:PUBLISH
X-WR-CALNAME:Discover Forsyth County
X-ORIGINAL-URL:https://discoverfoco.com
X-WR-CALDESC:Events for Discover Forsyth County
REFRESH-INTERVAL;VALUE=DURATION:PT1H
X-Robots-Tag:noindex
X-PUBLISHED-TTL:PT1H
BEGIN:VTIMEZONE
TZID:America/New_York
BEGIN:DAYLIGHT
TZOFFSETFROM:-0500
TZOFFSETTO:-0400
TZNAME:EDT
DTSTART:20220313T070000
END:DAYLIGHT
BEGIN:STANDARD
TZOFFSETFROM:-0400
TZOFFSETTO:-0500
TZNAME:EST
DTSTART:20221106T060000
END:STANDARD
BEGIN:DAYLIGHT
TZOFFSETFROM:-0500
TZOFFSETTO:-0400
TZNAME:EDT
DTSTART:20230312T070000
END:DAYLIGHT
BEGIN:STANDARD
TZOFFSETFROM:-0400
TZOFFSETTO:-0500
TZNAME:EST
DTSTART:20231105T060000
END:STANDARD
BEGIN:DAYLIGHT
TZOFFSETFROM:-0500
TZOFFSETTO:-0400
TZNAME:EDT
DTSTART:20240310T070000
END:DAYLIGHT
BEGIN:STANDARD
TZOFFSETFROM:-0400
TZOFFSETTO:-0500
TZNAME:EST
DTSTART:20241103T060000
END:STANDARD
END:VTIMEZONE
BEGIN:VEVENT
DTSTART;TZID=America/New_York:20230610T190000
DTEND;TZID=America/New_York:20230610T210000
DTSTAMP:20260422T060107
CREATED:20230526T152557Z
LAST-MODIFIED:20230526T152557Z
UID:10001618-1686423600-1686430800@discoverfoco.com
SUMMARY:Frankly Scarlet (Grateful Dead Tribute) in Concert - Lou Sobh Amphitheater
DESCRIPTION:“We are life-long Deadheads. For us it is more than just the music\, it is a lifestyle… a way of conducting yourself.” Frankly Scarlet is a band of seasoned musicians from Atlanta\, GA that plays the music of the Grateful Dead and they put their own “fingerprint” on it.\n\nCome out and join these Deadheads live in another FREE community concert at the Cumming City Center Lou Sobh Amphitheater!\n\nFree admission & free parking.\nOutside food can be brought in but coolers\, cans\, bottles\, and all alcoholic beverages are NOT allowed.\nFriendly dogs on-leash are welcome! BYO lawn chairs or blankets to sit on.
URL:https://discoverfoco.com/event/frankly-scarlet-grateful-dead-tribute-in-concert-lou-sobh-amphitheater/
LOCATION:Lou Sobh Amphitheater – Cumming City Center\, 423 Canton Road\, Cumming\, GA\, United States
CATEGORIES:Cumming City Center,Music,Outdoor
ATTACH;FMTTYPE=image/jpeg:https://discoverfoco.com/wp-content/uploads/2023/05/347127040_557436333238568_7365725580980414644_n.jpg
ORGANIZER;CN="Cumming City Center":MAILTO:info@cityofcumming.net
END:VEVENT
BEGIN:VEVENT
DTSTART;TZID=America/New_York:20230526T190000
DTEND;TZID=America/New_York:20230526T220000
DTSTAMP:20260422T060107
CREATED:20230526T152313Z
LAST-MODIFIED:20230526T152313Z
UID:10001617-1685127600-1685138400@discoverfoco.com
SUMMARY:The A-Town A-List in Concert - Lou Sob Amphitheater
DESCRIPTION:Join us for our third FREE community concert of the season\, featuring The A-Town A-List! With world-class talent and effortless style\, this party powerhouse transforms every event—from rustic winery weddings to luxe urban soirees—into larger-than-life experiences. At an A-Town party\, you’ll have more fun in a few hours than you’ve had in years.\n\nPlaying amazing events all over the Southeast and around the entire country since its 2010 debut\, The A-Town A-List is a carefully curated combination of performers with impressive musical\, vocal\, dance and theatre experience. With resumes that include performances alongside the likes of Bruce Springsteen\, The Black-Eyed Peas\, and Stevie Wonder\, the band members each bring to the stage a combination of unique talents. Together\, they form a magnetic energy that will entice every partygoer to the dance floor.\n\nA-Town A-List performances are designed to build momentum and end with a bang. With intuitive timing honed through years of on-stage experience\, these performers are more than just musical artists; they are experience artists. The band knows exactly when to evoke just the right tune to keep the party going strong: from timeless classics to modern hits\, from groovin’ funk to soulful\, slow-burning ballads. And all three singers’ performance chemistry is infectious\, evoking the emotional delivery of nearly every fan-favorite of the past 60 years …from Bruno Mars to Frank Sinatra\, and from the Beatles to Katy Perry and Beyonce.\n\nOn a personal level\, the performers in The A-Town A-List know they’re lucky to celebrate life’s brightest moments with their clients. This band sets the standard for a new type of entertainment: one that blends fantastic live music\, undeniable performance artistry\, personal charisma\, and authentic kindness to create extraordinary experiences.\n\nFree admission & free parking.\nOutside food can be brought in but coolers\, cans\, bottles\, and all alcoholic beverages are not allowed.
URL:https://discoverfoco.com/event/the-a-town-a-list-in-concert-lou-sob-amphitheater/
LOCATION:Lou Sobh Amphitheater – Cumming City Center\, 423 Canton Road\, Cumming\, GA\, United States
CATEGORIES:Cumming City Center,Music,Outdoor
ATTACH;FMTTYPE=image/jpeg:https://discoverfoco.com/wp-content/uploads/2023/05/cccconcert2.jpg
ORGANIZER;CN="Cumming City Center":MAILTO:info@cityofcumming.net
END:VEVENT
END:VCALENDAR