BEGIN:VCALENDAR
VERSION:2.0
PRODID:-//Discover Forsyth County - ECPv6.15.20//NONSGML v1.0//EN
CALSCALE:GREGORIAN
METHOD:PUBLISH
X-WR-CALNAME:Discover Forsyth County
X-ORIGINAL-URL:https://discoverfoco.com
X-WR-CALDESC:Events for Discover Forsyth County
REFRESH-INTERVAL;VALUE=DURATION:PT1H
X-Robots-Tag:noindex
X-PUBLISHED-TTL:PT1H
BEGIN:VTIMEZONE
TZID:America/New_York
BEGIN:DAYLIGHT
TZOFFSETFROM:-0500
TZOFFSETTO:-0400
TZNAME:EDT
DTSTART:20240310T070000
END:DAYLIGHT
BEGIN:STANDARD
TZOFFSETFROM:-0400
TZOFFSETTO:-0500
TZNAME:EST
DTSTART:20241103T060000
END:STANDARD
BEGIN:DAYLIGHT
TZOFFSETFROM:-0500
TZOFFSETTO:-0400
TZNAME:EDT
DTSTART:20250309T070000
END:DAYLIGHT
BEGIN:STANDARD
TZOFFSETFROM:-0400
TZOFFSETTO:-0500
TZNAME:EST
DTSTART:20251102T060000
END:STANDARD
BEGIN:DAYLIGHT
TZOFFSETFROM:-0500
TZOFFSETTO:-0400
TZNAME:EDT
DTSTART:20260308T070000
END:DAYLIGHT
BEGIN:STANDARD
TZOFFSETFROM:-0400
TZOFFSETTO:-0500
TZNAME:EST
DTSTART:20261101T060000
END:STANDARD
END:VTIMEZONE
BEGIN:VEVENT
DTSTART;TZID=America/New_York:20250111T100000
DTEND;TZID=America/New_York:20250111T170000
DTSTAMP:20260419T194525
CREATED:20241213T161746Z
LAST-MODIFIED:20250103T195454Z
UID:10005796-1736589600-1736614800@discoverfoco.com
SUMMARY:Jimbo's Fishing Expo
DESCRIPTION:Join us at the Jimbo’s Fishing Expo on January 11\, 2025\, at the Forsyth Conference Center for a fun-filled fishing event full of prizes\, vendors and fishing classes from Top Pro’s\, and fantastic deals on your favorite fishing products. \nJimbo’s Fishing Expo brings together small business owners\, like-minded fishing vendors\, and the Lake Lanier fishing community at this family-owned\, small-business fishing event in Forsyth County\, GA. \n\nPrizes: This year is going to be special! We have a $1500 Grand Prize raffle item!! So many great vendors and classes from Top Pro’s.\nTime: 10 am – 5 pm\nTickets: $5 Entry Expo only and $20 Expo plus Classes
URL:https://discoverfoco.com/event/jimbos-fishing-expo/
LOCATION:Forsyth Conference Center at Lanier Technical College\, 3410 Ronald Reagan Blvd.\, Cumming\, GA\, 30041\, United States
CATEGORIES:Lake,Outdoor,Sports
ATTACH;FMTTYPE=image/png:https://discoverfoco.com/wp-content/uploads/2024/12/jimbos-fishing-expo-forsyth-conference-center-featured.png
END:VEVENT
END:VCALENDAR