BEGIN:VCALENDAR
VERSION:2.0
PRODID:-//Discover Forsyth County - ECPv6.15.20//NONSGML v1.0//EN
CALSCALE:GREGORIAN
METHOD:PUBLISH
X-WR-CALNAME:Discover Forsyth County
X-ORIGINAL-URL:https://discoverfoco.com
X-WR-CALDESC:Events for Discover Forsyth County
REFRESH-INTERVAL;VALUE=DURATION:PT1H
X-Robots-Tag:noindex
X-PUBLISHED-TTL:PT1H
BEGIN:VTIMEZONE
TZID:America/New_York
BEGIN:DAYLIGHT
TZOFFSETFROM:-0500
TZOFFSETTO:-0400
TZNAME:EDT
DTSTART:20230312T070000
END:DAYLIGHT
BEGIN:STANDARD
TZOFFSETFROM:-0400
TZOFFSETTO:-0500
TZNAME:EST
DTSTART:20231105T060000
END:STANDARD
BEGIN:DAYLIGHT
TZOFFSETFROM:-0500
TZOFFSETTO:-0400
TZNAME:EDT
DTSTART:20240310T070000
END:DAYLIGHT
BEGIN:STANDARD
TZOFFSETFROM:-0400
TZOFFSETTO:-0500
TZNAME:EST
DTSTART:20241103T060000
END:STANDARD
BEGIN:DAYLIGHT
TZOFFSETFROM:-0500
TZOFFSETTO:-0400
TZNAME:EDT
DTSTART:20250309T070000
END:DAYLIGHT
BEGIN:STANDARD
TZOFFSETFROM:-0400
TZOFFSETTO:-0500
TZNAME:EST
DTSTART:20251102T060000
END:STANDARD
BEGIN:DAYLIGHT
TZOFFSETFROM:-0500
TZOFFSETTO:-0400
TZNAME:EDT
DTSTART:20260308T070000
END:DAYLIGHT
BEGIN:STANDARD
TZOFFSETFROM:-0400
TZOFFSETTO:-0500
TZNAME:EST
DTSTART:20261101T060000
END:STANDARD
END:VTIMEZONE
BEGIN:VEVENT
DTSTART;TZID=America/New_York:20251025T200000
DTEND;TZID=America/New_York:20251025T220000
DTSTAMP:20260420T080139
CREATED:20250320T175118Z
LAST-MODIFIED:20250813T131219Z
UID:10005871-1761422400-1761429600@discoverfoco.com
SUMMARY:Movies Alfresco
DESCRIPTION:Grab your lawn chairs and blankets to join us at the Lou Sobh Amphitheater for our 2025 outdoor movie series “Movies Alfresco”! Whether you’re a hardcore movie buff or just looking for a fun night out with friends\, our outdoor movie screening events in Cumming\, GA\, are the perfect way to relax and unwind. \nThere will be something for everyone from kid’s movies to movies for the whole family\, plus your favorite snacks and drinks available for purchase. Enjoy a night under the stars with your favorite films on the big screen! \nBring your own lawn chairs and blankets to sit on. Friendly dogs are welcome to join on a leash. Tents\, coolers\, outside food\, outside alcoholic beverages\, cans\, glass bottles\, or smoking are NOT allowed. All minors must be accompanied by an adult. \nMovies Alfresco Schedule\nAugust 29 at 8:00 pm to feature– Freaky Friday\nMore info \nOctober 25 at 8:00 pm to feature– Beetlejuice\nMore info
URL:https://discoverfoco.com/event/movies-alfresco/2025-10-25/
LOCATION:Lou Sobh Amphitheater – Cumming City Center\, 423 Canton Road\, Cumming\, GA\, United States
CATEGORIES:Cumming City Center,Just for Fun,Kid-Friendly,Outdoor
ATTACH;FMTTYPE=image/png:https://discoverfoco.com/wp-content/uploads/2025/03/Movies-Alfreso-Lou-Sobh-Amphitheater-Movie-Series-1.png
ORGANIZER;CN="Cumming City Center":MAILTO:info@cityofcumming.net
END:VEVENT
BEGIN:VEVENT
DTSTART;TZID=America/New_York:20251025T160000
DTEND;TZID=America/New_York:20251025T200000
DTSTAMP:20260420T080139
CREATED:20240822T142714Z
LAST-MODIFIED:20250910T140052Z
UID:10005511-1761408000-1761422400@discoverfoco.com
SUMMARY:Howl-oween at Cumming City Center
DESCRIPTION:Gather the whole family and your four-legged friends and head to the Cumming City Center for a tail-wagging good time at the Annual Howl-oween celebration\, a spooktacular evening of fall fun and furry festivities. The Cumming\, GA\, event is a can’t-miss tradition for families and pet lovers featuring fall-themed decorations\, treats around every corner\, and plenty of tail wags.\n  \nDress in your most creative costumes and enjoy a lively night filled with:\n\nPet-friendly Trick-or-Treating\nA pet adoption event to meet your future best friend\nLocal vendors with pet-friendly goods and treats\nSpooky tunes and festive fall vibes\nA storefront décor contest where you help pick the winner!\n\n\nLeash up your pup and join us to enjoy a paw-some evening of Halloween fun and celebrate the season with your community!
URL:https://discoverfoco.com/event/howl-oween-at-cumming-city-center/
LOCATION:Cumming City Center\, 423 Canton Rd.\, Cumming\, GA\, 30040\, United States
CATEGORIES:Animals,Arts & Crafts,Community,Cumming City Center,Fairs & Festivals,Food and Beverage,For a Good Cause,Halloween,Holiday,Just for Fun,Outdoor,Pet Friendly
ATTACH;FMTTYPE=image/png:https://discoverfoco.com/wp-content/uploads/2024/08/Third-Annual-Howl-oween-at-Cumming-City-Center.png
ORGANIZER;CN="Cumming City Center":MAILTO:info@cityofcumming.net
END:VEVENT
BEGIN:VEVENT
DTSTART;TZID=America/New_York:20251023T180000
DTEND;TZID=America/New_York:20251023T200000
DTSTAMP:20260420T080139
CREATED:20240822T140918Z
LAST-MODIFIED:20250910T141449Z
UID:10005510-1761242400-1761249600@discoverfoco.com
SUMMARY:Tin Cup Cruise-In Halloween Edition at Cumming City Center
DESCRIPTION:Rev up your engines for a spooktacular night of classic cars\, candy\, and community fun at the Tin Cup Cruise-In – Halloween Edition at Cumming City Center! \nThis festive cruise-in kicks off a monthly series happening on the first Thursday of every month. Families are invited to come out and enjoy trick-or-treating with car show participants\, admire vintage rides\, and soak in the Halloween spirit. Participants are required to bring candy and are encouraged to dress up themselves and decorate their cars to get into the Halloween spirit. Prizes from Tin Cup will be awarded for the most festive entries! \nArrive via the Canton Road entrance beginning at 5 PM. Parking is first come\, first served along Main Street and the road will close once all spots are filled. Don’t forget the candy! All participants must bring treats to hand out to kids and costumes and car decorations are highly encouraged! \nBonus fun: Stick around for prizes from Tin Cup\, awarded to standout participants! \nWhether you’re bringing a classic car or just looking for a fun night out with the family\, this Cruise-In promises Halloween cheer and small-town charm for everyone.
URL:https://discoverfoco.com/event/tin-cup-cruise-in-halloween-edition-at-cumming-city-center/
LOCATION:Cumming City Center\, 423 Canton Rd.\, Cumming\, GA\, 30040\, United States
CATEGORIES:Cars/Trucks,Community,Cumming City Center,Halloween,Holiday,Just for Fun,Kid-Friendly,Outdoor,Pet Friendly
ATTACH;FMTTYPE=image/png:https://discoverfoco.com/wp-content/uploads/2024/08/tin-cup-cruise-in-cumming-ga-halloween-event.png
ORGANIZER;CN="Cumming City Center":MAILTO:info@cityofcumming.net
END:VEVENT
BEGIN:VEVENT
DTSTART;TZID=America/New_York:20250829T080000
DTEND;TZID=America/New_York:20250829T220000
DTSTAMP:20260420T080139
CREATED:20250320T175118Z
LAST-MODIFIED:20250813T131219Z
UID:10005870-1756454400-1756504800@discoverfoco.com
SUMMARY:Movies Alfresco
DESCRIPTION:Grab your lawn chairs and blankets to join us at the Lou Sobh Amphitheater for our 2025 outdoor movie series “Movies Alfresco”! Whether you’re a hardcore movie buff or just looking for a fun night out with friends\, our outdoor movie screening events in Cumming\, GA\, are the perfect way to relax and unwind. \nThere will be something for everyone from kid’s movies to movies for the whole family\, plus your favorite snacks and drinks available for purchase. Enjoy a night under the stars with your favorite films on the big screen! \nBring your own lawn chairs and blankets to sit on. Friendly dogs are welcome to join on a leash. Tents\, coolers\, outside food\, outside alcoholic beverages\, cans\, glass bottles\, or smoking are NOT allowed. All minors must be accompanied by an adult. \nMovies Alfresco Schedule\nAugust 29 at 8:00 pm to feature– Freaky Friday\nMore info \nOctober 25 at 8:00 pm to feature– Beetlejuice\nMore info
URL:https://discoverfoco.com/event/movies-alfresco/2025-08-29/
LOCATION:Lou Sobh Amphitheater – Cumming City Center\, 423 Canton Road\, Cumming\, GA\, United States
CATEGORIES:Cumming City Center,Just for Fun,Kid-Friendly,Outdoor
ATTACH;FMTTYPE=image/png:https://discoverfoco.com/wp-content/uploads/2025/03/Movies-Alfreso-Lou-Sobh-Amphitheater-Movie-Series-1.png
ORGANIZER;CN="Cumming City Center":MAILTO:info@cityofcumming.net
END:VEVENT
BEGIN:VEVENT
DTSTART;TZID=America/New_York:20250718T110000
DTEND;TZID=America/New_York:20250718T190000
DTSTAMP:20260420T080139
CREATED:20250418T174742Z
LAST-MODIFIED:20250424T202302Z
UID:10005844-1752836400-1752865200@discoverfoco.com
SUMMARY:TGIF – Inflatables\, Water Slides\, and Games
DESCRIPTION:The Cumming City Center is teaming up with Jump N Jacks Moonwalks to make Friday even better! \nJoin us for TGIF! – Inflatables\, Water Slides\, and Games\, a family-friendly event in Cumming\, GA\, at the Lou Sobh Amphitheater featuring an exciting lineup of fun outdoor activities for kids of all ages\, like bounce houses\, water slides\, and games! The event is happening in May\, June\, and July at the Cumming City Center Lou Sobh Amphitheater. Price is $10 per person for unlimited play. See you there! \nEvent Dates:\nMay 30 from 11 am – 7 pm\nJune 20 from 11 am – 7 pm\nJuly 18 from 11 am.- 7 pm \n 
URL:https://discoverfoco.com/event/tgif-inflatables-water-slides-and-games/2025-07-18/
LOCATION:Lou Sobh Amphitheater – Cumming City Center\, 423 Canton Road\, Cumming\, GA\, United States
CATEGORIES:Cumming City Center,Just for Fun,Kid-Friendly,Outdoor
ATTACH;FMTTYPE=image/png:https://discoverfoco.com/wp-content/uploads/2025/04/TGIF-Inflatables-Water-Slides-and-Games-Cumming-City-Center-Events0A.png
ORGANIZER;CN="Cumming City Center":MAILTO:info@cityofcumming.net
END:VEVENT
BEGIN:VEVENT
DTSTART;TZID=America/New_York:20250620T110000
DTEND;TZID=America/New_York:20250620T190000
DTSTAMP:20260420T080139
CREATED:20250418T174742Z
LAST-MODIFIED:20250424T202302Z
UID:10005843-1750417200-1750446000@discoverfoco.com
SUMMARY:TGIF – Inflatables\, Water Slides\, and Games
DESCRIPTION:The Cumming City Center is teaming up with Jump N Jacks Moonwalks to make Friday even better! \nJoin us for TGIF! – Inflatables\, Water Slides\, and Games\, a family-friendly event in Cumming\, GA\, at the Lou Sobh Amphitheater featuring an exciting lineup of fun outdoor activities for kids of all ages\, like bounce houses\, water slides\, and games! The event is happening in May\, June\, and July at the Cumming City Center Lou Sobh Amphitheater. Price is $10 per person for unlimited play. See you there! \nEvent Dates:\nMay 30 from 11 am – 7 pm\nJune 20 from 11 am – 7 pm\nJuly 18 from 11 am.- 7 pm \n 
URL:https://discoverfoco.com/event/tgif-inflatables-water-slides-and-games/2025-06-20/
LOCATION:Lou Sobh Amphitheater – Cumming City Center\, 423 Canton Road\, Cumming\, GA\, United States
CATEGORIES:Cumming City Center,Just for Fun,Kid-Friendly,Outdoor
ATTACH;FMTTYPE=image/png:https://discoverfoco.com/wp-content/uploads/2025/04/TGIF-Inflatables-Water-Slides-and-Games-Cumming-City-Center-Events0A.png
ORGANIZER;CN="Cumming City Center":MAILTO:info@cityofcumming.net
END:VEVENT
BEGIN:VEVENT
DTSTART;TZID=America/New_York:20250530T110000
DTEND;TZID=America/New_York:20250530T190000
DTSTAMP:20260420T080139
CREATED:20250418T174742Z
LAST-MODIFIED:20250424T202302Z
UID:10005842-1748602800-1748631600@discoverfoco.com
SUMMARY:TGIF – Inflatables\, Water Slides\, and Games
DESCRIPTION:The Cumming City Center is teaming up with Jump N Jacks Moonwalks to make Friday even better! \nJoin us for TGIF! – Inflatables\, Water Slides\, and Games\, a family-friendly event in Cumming\, GA\, at the Lou Sobh Amphitheater featuring an exciting lineup of fun outdoor activities for kids of all ages\, like bounce houses\, water slides\, and games! The event is happening in May\, June\, and July at the Cumming City Center Lou Sobh Amphitheater. Price is $10 per person for unlimited play. See you there! \nEvent Dates:\nMay 30 from 11 am – 7 pm\nJune 20 from 11 am – 7 pm\nJuly 18 from 11 am.- 7 pm \n 
URL:https://discoverfoco.com/event/tgif-inflatables-water-slides-and-games/2025-05-30/
LOCATION:Lou Sobh Amphitheater – Cumming City Center\, 423 Canton Road\, Cumming\, GA\, United States
CATEGORIES:Cumming City Center,Just for Fun,Kid-Friendly,Outdoor
ATTACH;FMTTYPE=image/png:https://discoverfoco.com/wp-content/uploads/2025/04/TGIF-Inflatables-Water-Slides-and-Games-Cumming-City-Center-Events0A.png
ORGANIZER;CN="Cumming City Center":MAILTO:info@cityofcumming.net
END:VEVENT
BEGIN:VEVENT
DTSTART;TZID=America/New_York:20250523T200000
DTEND;TZID=America/New_York:20250523T223000
DTSTAMP:20260420T080139
CREATED:20250320T175118Z
LAST-MODIFIED:20250813T131219Z
UID:10005809-1748030400-1748039400@discoverfoco.com
SUMMARY:Movies Alfresco
DESCRIPTION:Grab your lawn chairs and blankets to join us at the Lou Sobh Amphitheater for our 2025 outdoor movie series “Movies Alfresco”! Whether you’re a hardcore movie buff or just looking for a fun night out with friends\, our outdoor movie screening events in Cumming\, GA\, are the perfect way to relax and unwind. \nThere will be something for everyone from kid’s movies to movies for the whole family\, plus your favorite snacks and drinks available for purchase. Enjoy a night under the stars with your favorite films on the big screen! \nBring your own lawn chairs and blankets to sit on. Friendly dogs are welcome to join on a leash. Tents\, coolers\, outside food\, outside alcoholic beverages\, cans\, glass bottles\, or smoking are NOT allowed. All minors must be accompanied by an adult. \nMovies Alfresco Schedule\nAugust 29 at 8:00 pm to feature– Freaky Friday\nMore info \nOctober 25 at 8:00 pm to feature– Beetlejuice\nMore info
URL:https://discoverfoco.com/event/movies-alfresco/2025-05-23/
LOCATION:Lou Sobh Amphitheater – Cumming City Center\, 423 Canton Road\, Cumming\, GA\, United States
CATEGORIES:Cumming City Center,Just for Fun,Kid-Friendly,Outdoor
ATTACH;FMTTYPE=image/png:https://discoverfoco.com/wp-content/uploads/2025/03/Movies-Alfreso-Lou-Sobh-Amphitheater-Movie-Series-1.png
ORGANIZER;CN="Cumming City Center":MAILTO:info@cityofcumming.net
END:VEVENT
BEGIN:VEVENT
DTSTART;TZID=America/New_York:20250523T110000
DTEND;TZID=America/New_York:20250523T123000
DTSTAMP:20260420T080139
CREATED:20230303T201553Z
LAST-MODIFIED:20250501T123543Z
UID:10001243-1747998000-1748003400@discoverfoco.com
SUMMARY:City of Cumming Annual Memorial Day Ceremony
DESCRIPTION:Join us this May for the City of Cumming Memorial Day Ceremony at the Cumming City Center Lou Sobh Amphitheater from 11 a.m. to 12:30 p.m. \nThe Memorial Day event in Cumming\, GA\, will be held rain or shine at the Lou Sobh Amphitheater with seating on the tiered walls\, or you can bring your own lawn chair. Parking and admission are free. All are welcome. \nSee more information here
URL:https://discoverfoco.com/event/city-of-cumming-annual-memorial-day-ceremony/
LOCATION:Cumming City Center\, 423 Canton Rd.\, Cumming\, GA\, 30040\, United States
CATEGORIES:Holiday,Outdoor
ATTACH;FMTTYPE=image/png:https://discoverfoco.com/wp-content/uploads/2023/03/Cumming-Wine-Festival-Cumming-City-Center-Events-in-Forsyth-County-GA0A.png
ORGANIZER;CN="Cumming City Center":MAILTO:info@cityofcumming.net
END:VEVENT
BEGIN:VEVENT
DTSTART;TZID=America/New_York:20241207T100000
DTEND;TZID=America/New_York:20241207T170000
DTSTAMP:20260420T080139
CREATED:20241107T194815Z
LAST-MODIFIED:20241107T194815Z
UID:10005570-1733565600-1733590800@discoverfoco.com
SUMMARY:Snow Day at Cumming City Center
DESCRIPTION:Presented by Jump N Jacks and Cumming City Center \nEnjoy $10 unlimited rides OR bring a gift to donate and jump for FREE! \n 
URL:https://discoverfoco.com/event/snow-day-at-cumming-city-center/
LOCATION:Cumming City Center\, 423 Canton Rd.\, Cumming\, GA\, 30040\, United States
CATEGORIES:Community,Cumming City Center,For a Good Cause,Holiday,Just for Fun,Kid-Friendly,Outdoor
ATTACH;FMTTYPE=image/jpeg:https://discoverfoco.com/wp-content/uploads/2024/11/Snow-Day-at-CCC-1.jpg
ORGANIZER;CN="Cumming City Center":MAILTO:info@cityofcumming.net
END:VEVENT
BEGIN:VEVENT
DTSTART;TZID=America/New_York:20241109T120000
DTEND;TZID=America/New_York:20241109T200000
DTSTAMP:20260420T080139
CREATED:20241107T193846Z
LAST-MODIFIED:20241107T194841Z
UID:10005569-1731153600-1731182400@discoverfoco.com
SUMMARY:Sip into the Season - NEW Event at Cumming City Center
DESCRIPTION:The Cumming City Center is offering a fun new event this Saturday\, November 9th\, 12:00 pm – 8:00 pm! Come “Sip Into The Season” and enjoy a delicious scavenger hunt! Drop by any City Center business on Saturday to pick up a free Sip Into The Season punch card\, then make your way along the delicious “sipping trail” to enjoy tasty\, holiday-themed specialty cocktails and mocktails\, snacks\, curated vendors\, and fun activities! \nBusinesses will charge various prices for beverages.  Those “Seasoned Sippers” who make their way through the entire Sipping Trail will have a chance to receive a special holiday prize! \nAdditionally\, Los Rios Cantina will offer a special Sip Into The Season Margarita Tasting Events on Saturday\, 12pm-5pm. Tickets to Los Rios Margarita Tastings Event are $35 in advance or $40 at the door.  Go to the Events listing for Los Rios Cantina or the Cumming City Center on Facebook to purchase advance tickets. \nCome Sip Into The Season at the Cumming City Center and get ready for the holidays! Please drink responsibly!
URL:https://discoverfoco.com/event/sip-into-the-season-new-event-at-cumming-city-center/
LOCATION:Cumming City Center\, 423 Canton Rd.\, Cumming\, GA\, 30040\, United States
CATEGORIES:and Wine Experiences,Breweries,Community,Cumming City Center,Food and Beverage,Holiday,Just for Fun,Outdoor,Shopping,Spirits,Wine
ATTACH;FMTTYPE=image/jpeg:https://discoverfoco.com/wp-content/uploads/2024/11/Sip-in-to-the-Season-CCC.jpg
ORGANIZER;CN="Cumming City Center":MAILTO:info@cityofcumming.net
END:VEVENT
END:VCALENDAR