BEGIN:VCALENDAR
VERSION:2.0
PRODID:-//Discover Forsyth County - ECPv6.15.20//NONSGML v1.0//EN
CALSCALE:GREGORIAN
METHOD:PUBLISH
X-WR-CALNAME:Discover Forsyth County
X-ORIGINAL-URL:https://discoverfoco.com
X-WR-CALDESC:Events for Discover Forsyth County
REFRESH-INTERVAL;VALUE=DURATION:PT1H
X-Robots-Tag:noindex
X-PUBLISHED-TTL:PT1H
BEGIN:VTIMEZONE
TZID:America/New_York
BEGIN:DAYLIGHT
TZOFFSETFROM:-0500
TZOFFSETTO:-0400
TZNAME:EDT
DTSTART:20220313T070000
END:DAYLIGHT
BEGIN:STANDARD
TZOFFSETFROM:-0400
TZOFFSETTO:-0500
TZNAME:EST
DTSTART:20221106T060000
END:STANDARD
BEGIN:DAYLIGHT
TZOFFSETFROM:-0500
TZOFFSETTO:-0400
TZNAME:EDT
DTSTART:20230312T070000
END:DAYLIGHT
BEGIN:STANDARD
TZOFFSETFROM:-0400
TZOFFSETTO:-0500
TZNAME:EST
DTSTART:20231105T060000
END:STANDARD
BEGIN:DAYLIGHT
TZOFFSETFROM:-0500
TZOFFSETTO:-0400
TZNAME:EDT
DTSTART:20240310T070000
END:DAYLIGHT
BEGIN:STANDARD
TZOFFSETFROM:-0400
TZOFFSETTO:-0500
TZNAME:EST
DTSTART:20241103T060000
END:STANDARD
END:VTIMEZONE
BEGIN:VEVENT
DTSTART;TZID=America/New_York:20230827T140000
DTEND;TZID=America/New_York:20230827T170000
DTSTAMP:20260419T175138
CREATED:20230613T154720Z
LAST-MODIFIED:20230613T155010Z
UID:10003581-1693144800-1693155600@discoverfoco.com
SUMMARY:Legally Blonde
DESCRIPTION:  \nJoin us for our main stage production of Legally Blonde! \nFor more information visit AudienceView Professional (ovationtix.com)
URL:https://discoverfoco.com/event/legally-blonde/2023-08-27/
LOCATION:Forsyth County Arts and Learning Center (FoCAL)\, 1150 Dahlonega Hwy\, Cumming\, GA\, 30040\, United States
CATEGORIES:Comedy,Community,FoCAL Center,Just for Fun,Kid-Friendly,Music,Theatre
ATTACH;FMTTYPE=image/jpeg:https://discoverfoco.com/wp-content/uploads/2023/06/legallyblonde.jpg
ORGANIZER;CN="Forsyth County Arts and Learning Center (FoCAL)":MAILTO:clovell@forsyth.k12.ga.us
END:VEVENT
BEGIN:VEVENT
DTSTART;TZID=America/New_York:20230827T140000
DTEND;TZID=America/New_York:20230827T170000
DTSTAMP:20260419T175138
CREATED:20230613T154720Z
LAST-MODIFIED:20230613T155009Z
UID:10003567-1693144800-1693155600@discoverfoco.com
SUMMARY:Legally Blonde
DESCRIPTION:  \nJoin us for our main stage production of Legally Blonde! \nFor more information visit AudienceView Professional (ovationtix.com)
URL:https://discoverfoco.com/event/legally-blonde/2023-08-27/
LOCATION:Forsyth County Arts and Learning Center (FoCAL)\, 1150 Dahlonega Hwy\, Cumming\, GA\, 30040\, United States
CATEGORIES:Comedy,Community,FoCAL Center,Just for Fun,Kid-Friendly,Music,Theatre
ATTACH;FMTTYPE=image/jpeg:https://discoverfoco.com/wp-content/uploads/2023/06/legallyblonde.jpg
ORGANIZER;CN="Forsyth County Arts and Learning Center (FoCAL)":MAILTO:clovell@forsyth.k12.ga.us
END:VEVENT
BEGIN:VEVENT
DTSTART;TZID=America/New_York:20230827T140000
DTEND;TZID=America/New_York:20230827T170000
DTSTAMP:20260419T175138
CREATED:20230613T154720Z
LAST-MODIFIED:20230613T155008Z
UID:10003560-1693144800-1693155600@discoverfoco.com
SUMMARY:Legally Blonde
DESCRIPTION:  \nJoin us for our main stage production of Legally Blonde! \nFor more information visit AudienceView Professional (ovationtix.com)
URL:https://discoverfoco.com/event/legally-blonde/2023-08-27/
LOCATION:Forsyth County Arts and Learning Center (FoCAL)\, 1150 Dahlonega Hwy\, Cumming\, GA\, 30040\, United States
CATEGORIES:Comedy,Community,FoCAL Center,Just for Fun,Kid-Friendly,Music,Theatre
ATTACH;FMTTYPE=image/jpeg:https://discoverfoco.com/wp-content/uploads/2023/06/legallyblonde.jpg
ORGANIZER;CN="Forsyth County Arts and Learning Center (FoCAL)":MAILTO:clovell@forsyth.k12.ga.us
END:VEVENT
BEGIN:VEVENT
DTSTART;TZID=America/New_York:20230827T140000
DTEND;TZID=America/New_York:20230827T170000
DTSTAMP:20260419T175138
CREATED:20230613T154720Z
LAST-MODIFIED:20230613T155010Z
UID:10003574-1693144800-1693155600@discoverfoco.com
SUMMARY:Legally Blonde
DESCRIPTION:  \nJoin us for our main stage production of Legally Blonde! \nFor more information visit AudienceView Professional (ovationtix.com)
URL:https://discoverfoco.com/event/legally-blonde/2023-08-27/
LOCATION:Forsyth County Arts and Learning Center (FoCAL)\, 1150 Dahlonega Hwy\, Cumming\, GA\, 30040\, United States
CATEGORIES:Comedy,Community,FoCAL Center,Just for Fun,Kid-Friendly,Music,Theatre
ATTACH;FMTTYPE=image/jpeg:https://discoverfoco.com/wp-content/uploads/2023/06/legallyblonde.jpg
ORGANIZER;CN="Forsyth County Arts and Learning Center (FoCAL)":MAILTO:clovell@forsyth.k12.ga.us
END:VEVENT
BEGIN:VEVENT
DTSTART;TZID=America/New_York:20230827T140000
DTEND;TZID=America/New_York:20230827T170000
DTSTAMP:20260419T175138
CREATED:20230613T154720Z
LAST-MODIFIED:20230613T155008Z
UID:10003554-1693144800-1693155600@discoverfoco.com
SUMMARY:Legally Blonde
DESCRIPTION:  \nJoin us for our main stage production of Legally Blonde! \nFor more information visit AudienceView Professional (ovationtix.com)
URL:https://discoverfoco.com/event/legally-blonde/2023-08-27/
LOCATION:Forsyth County Arts and Learning Center (FoCAL)\, 1150 Dahlonega Hwy\, Cumming\, GA\, 30040\, United States
CATEGORIES:Comedy,Community,FoCAL Center,Just for Fun,Kid-Friendly,Music,Theatre
ATTACH;FMTTYPE=image/jpeg:https://discoverfoco.com/wp-content/uploads/2023/06/legallyblonde.jpg
ORGANIZER;CN="Forsyth County Arts and Learning Center (FoCAL)":MAILTO:clovell@forsyth.k12.ga.us
END:VEVENT
BEGIN:VEVENT
DTSTART;TZID=America/New_York:20230826T193000
DTEND;TZID=America/New_York:20230826T193000
DTSTAMP:20260419T175138
CREATED:20230613T154720Z
LAST-MODIFIED:20230613T155010Z
UID:10003573-1693078200-1693078200@discoverfoco.com
SUMMARY:Legally Blonde
DESCRIPTION:  \nJoin us for our main stage production of Legally Blonde! \nFor more information visit AudienceView Professional (ovationtix.com)
URL:https://discoverfoco.com/event/legally-blonde/2023-08-26/
LOCATION:Forsyth County Arts and Learning Center (FoCAL)\, 1150 Dahlonega Hwy\, Cumming\, GA\, 30040\, United States
CATEGORIES:Comedy,Community,FoCAL Center,Just for Fun,Kid-Friendly,Music,Theatre
ATTACH;FMTTYPE=image/jpeg:https://discoverfoco.com/wp-content/uploads/2023/06/legallyblonde.jpg
ORGANIZER;CN="Forsyth County Arts and Learning Center (FoCAL)":MAILTO:clovell@forsyth.k12.ga.us
END:VEVENT
BEGIN:VEVENT
DTSTART;TZID=America/New_York:20230826T193000
DTEND;TZID=America/New_York:20230826T193000
DTSTAMP:20260419T175138
CREATED:20230613T154720Z
LAST-MODIFIED:20230613T155009Z
UID:10003566-1693078200-1693078200@discoverfoco.com
SUMMARY:Legally Blonde
DESCRIPTION:  \nJoin us for our main stage production of Legally Blonde! \nFor more information visit AudienceView Professional (ovationtix.com)
URL:https://discoverfoco.com/event/legally-blonde/2023-08-26/
LOCATION:Forsyth County Arts and Learning Center (FoCAL)\, 1150 Dahlonega Hwy\, Cumming\, GA\, 30040\, United States
CATEGORIES:Comedy,Community,FoCAL Center,Just for Fun,Kid-Friendly,Music,Theatre
ATTACH;FMTTYPE=image/jpeg:https://discoverfoco.com/wp-content/uploads/2023/06/legallyblonde.jpg
ORGANIZER;CN="Forsyth County Arts and Learning Center (FoCAL)":MAILTO:clovell@forsyth.k12.ga.us
END:VEVENT
BEGIN:VEVENT
DTSTART;TZID=America/New_York:20230826T193000
DTEND;TZID=America/New_York:20230826T193000
DTSTAMP:20260419T175138
CREATED:20230613T154720Z
LAST-MODIFIED:20230613T155008Z
UID:10003559-1693078200-1693078200@discoverfoco.com
SUMMARY:Legally Blonde
DESCRIPTION:  \nJoin us for our main stage production of Legally Blonde! \nFor more information visit AudienceView Professional (ovationtix.com)
URL:https://discoverfoco.com/event/legally-blonde/2023-08-26/
LOCATION:Forsyth County Arts and Learning Center (FoCAL)\, 1150 Dahlonega Hwy\, Cumming\, GA\, 30040\, United States
CATEGORIES:Comedy,Community,FoCAL Center,Just for Fun,Kid-Friendly,Music,Theatre
ATTACH;FMTTYPE=image/jpeg:https://discoverfoco.com/wp-content/uploads/2023/06/legallyblonde.jpg
ORGANIZER;CN="Forsyth County Arts and Learning Center (FoCAL)":MAILTO:clovell@forsyth.k12.ga.us
END:VEVENT
BEGIN:VEVENT
DTSTART;TZID=America/New_York:20230826T193000
DTEND;TZID=America/New_York:20230826T193000
DTSTAMP:20260419T175138
CREATED:20230613T154720Z
LAST-MODIFIED:20230613T155008Z
UID:10003553-1693078200-1693078200@discoverfoco.com
SUMMARY:Legally Blonde
DESCRIPTION:  \nJoin us for our main stage production of Legally Blonde! \nFor more information visit AudienceView Professional (ovationtix.com)
URL:https://discoverfoco.com/event/legally-blonde/2023-08-26/
LOCATION:Forsyth County Arts and Learning Center (FoCAL)\, 1150 Dahlonega Hwy\, Cumming\, GA\, 30040\, United States
CATEGORIES:Comedy,Community,FoCAL Center,Just for Fun,Kid-Friendly,Music,Theatre
ATTACH;FMTTYPE=image/jpeg:https://discoverfoco.com/wp-content/uploads/2023/06/legallyblonde.jpg
ORGANIZER;CN="Forsyth County Arts and Learning Center (FoCAL)":MAILTO:clovell@forsyth.k12.ga.us
END:VEVENT
BEGIN:VEVENT
DTSTART;TZID=America/New_York:20230826T193000
DTEND;TZID=America/New_York:20230826T193000
DTSTAMP:20260419T175138
CREATED:20230613T154720Z
LAST-MODIFIED:20230613T155010Z
UID:10003580-1693078200-1693078200@discoverfoco.com
SUMMARY:Legally Blonde
DESCRIPTION:  \nJoin us for our main stage production of Legally Blonde! \nFor more information visit AudienceView Professional (ovationtix.com)
URL:https://discoverfoco.com/event/legally-blonde/2023-08-26/
LOCATION:Forsyth County Arts and Learning Center (FoCAL)\, 1150 Dahlonega Hwy\, Cumming\, GA\, 30040\, United States
CATEGORIES:Comedy,Community,FoCAL Center,Just for Fun,Kid-Friendly,Music,Theatre
ATTACH;FMTTYPE=image/jpeg:https://discoverfoco.com/wp-content/uploads/2023/06/legallyblonde.jpg
ORGANIZER;CN="Forsyth County Arts and Learning Center (FoCAL)":MAILTO:clovell@forsyth.k12.ga.us
END:VEVENT
BEGIN:VEVENT
DTSTART;TZID=America/New_York:20230825T193000
DTEND;TZID=America/New_York:20230825T193000
DTSTAMP:20260419T175138
CREATED:20230613T154720Z
LAST-MODIFIED:20230613T155010Z
UID:10003572-1692991800-1692991800@discoverfoco.com
SUMMARY:Legally Blonde
DESCRIPTION:  \nJoin us for our main stage production of Legally Blonde! \nFor more information visit AudienceView Professional (ovationtix.com)
URL:https://discoverfoco.com/event/legally-blonde/2023-08-25/
LOCATION:Forsyth County Arts and Learning Center (FoCAL)\, 1150 Dahlonega Hwy\, Cumming\, GA\, 30040\, United States
CATEGORIES:Comedy,Community,FoCAL Center,Just for Fun,Kid-Friendly,Music,Theatre
ATTACH;FMTTYPE=image/jpeg:https://discoverfoco.com/wp-content/uploads/2023/06/legallyblonde.jpg
ORGANIZER;CN="Forsyth County Arts and Learning Center (FoCAL)":MAILTO:clovell@forsyth.k12.ga.us
END:VEVENT
BEGIN:VEVENT
DTSTART;TZID=America/New_York:20230825T193000
DTEND;TZID=America/New_York:20230825T193000
DTSTAMP:20260419T175138
CREATED:20230613T154720Z
LAST-MODIFIED:20230613T155008Z
UID:10003558-1692991800-1692991800@discoverfoco.com
SUMMARY:Legally Blonde
DESCRIPTION:  \nJoin us for our main stage production of Legally Blonde! \nFor more information visit AudienceView Professional (ovationtix.com)
URL:https://discoverfoco.com/event/legally-blonde/2023-08-25/
LOCATION:Forsyth County Arts and Learning Center (FoCAL)\, 1150 Dahlonega Hwy\, Cumming\, GA\, 30040\, United States
CATEGORIES:Comedy,Community,FoCAL Center,Just for Fun,Kid-Friendly,Music,Theatre
ATTACH;FMTTYPE=image/jpeg:https://discoverfoco.com/wp-content/uploads/2023/06/legallyblonde.jpg
ORGANIZER;CN="Forsyth County Arts and Learning Center (FoCAL)":MAILTO:clovell@forsyth.k12.ga.us
END:VEVENT
BEGIN:VEVENT
DTSTART;TZID=America/New_York:20230825T193000
DTEND;TZID=America/New_York:20230825T193000
DTSTAMP:20260419T175138
CREATED:20230613T154720Z
LAST-MODIFIED:20230613T155008Z
UID:10003552-1692991800-1692991800@discoverfoco.com
SUMMARY:Legally Blonde
DESCRIPTION:  \nJoin us for our main stage production of Legally Blonde! \nFor more information visit AudienceView Professional (ovationtix.com)
URL:https://discoverfoco.com/event/legally-blonde/2023-08-25/
LOCATION:Forsyth County Arts and Learning Center (FoCAL)\, 1150 Dahlonega Hwy\, Cumming\, GA\, 30040\, United States
CATEGORIES:Comedy,Community,FoCAL Center,Just for Fun,Kid-Friendly,Music,Theatre
ATTACH;FMTTYPE=image/jpeg:https://discoverfoco.com/wp-content/uploads/2023/06/legallyblonde.jpg
ORGANIZER;CN="Forsyth County Arts and Learning Center (FoCAL)":MAILTO:clovell@forsyth.k12.ga.us
END:VEVENT
BEGIN:VEVENT
DTSTART;TZID=America/New_York:20230825T193000
DTEND;TZID=America/New_York:20230825T193000
DTSTAMP:20260419T175138
CREATED:20230613T154720Z
LAST-MODIFIED:20230613T155010Z
UID:10003579-1692991800-1692991800@discoverfoco.com
SUMMARY:Legally Blonde
DESCRIPTION:  \nJoin us for our main stage production of Legally Blonde! \nFor more information visit AudienceView Professional (ovationtix.com)
URL:https://discoverfoco.com/event/legally-blonde/2023-08-25/
LOCATION:Forsyth County Arts and Learning Center (FoCAL)\, 1150 Dahlonega Hwy\, Cumming\, GA\, 30040\, United States
CATEGORIES:Comedy,Community,FoCAL Center,Just for Fun,Kid-Friendly,Music,Theatre
ATTACH;FMTTYPE=image/jpeg:https://discoverfoco.com/wp-content/uploads/2023/06/legallyblonde.jpg
ORGANIZER;CN="Forsyth County Arts and Learning Center (FoCAL)":MAILTO:clovell@forsyth.k12.ga.us
END:VEVENT
BEGIN:VEVENT
DTSTART;TZID=America/New_York:20230825T193000
DTEND;TZID=America/New_York:20230825T193000
DTSTAMP:20260419T175138
CREATED:20230613T154720Z
LAST-MODIFIED:20230613T155009Z
UID:10003565-1692991800-1692991800@discoverfoco.com
SUMMARY:Legally Blonde
DESCRIPTION:  \nJoin us for our main stage production of Legally Blonde! \nFor more information visit AudienceView Professional (ovationtix.com)
URL:https://discoverfoco.com/event/legally-blonde/2023-08-25/
LOCATION:Forsyth County Arts and Learning Center (FoCAL)\, 1150 Dahlonega Hwy\, Cumming\, GA\, 30040\, United States
CATEGORIES:Comedy,Community,FoCAL Center,Just for Fun,Kid-Friendly,Music,Theatre
ATTACH;FMTTYPE=image/jpeg:https://discoverfoco.com/wp-content/uploads/2023/06/legallyblonde.jpg
ORGANIZER;CN="Forsyth County Arts and Learning Center (FoCAL)":MAILTO:clovell@forsyth.k12.ga.us
END:VEVENT
BEGIN:VEVENT
DTSTART;TZID=America/New_York:20230824T193000
DTEND;TZID=America/New_York:20230824T193000
DTSTAMP:20260419T175138
CREATED:20230613T154720Z
LAST-MODIFIED:20230613T155009Z
UID:10003564-1692905400-1692905400@discoverfoco.com
SUMMARY:Legally Blonde
DESCRIPTION:  \nJoin us for our main stage production of Legally Blonde! \nFor more information visit AudienceView Professional (ovationtix.com)
URL:https://discoverfoco.com/event/legally-blonde/2023-08-24/
LOCATION:Forsyth County Arts and Learning Center (FoCAL)\, 1150 Dahlonega Hwy\, Cumming\, GA\, 30040\, United States
CATEGORIES:Comedy,Community,FoCAL Center,Just for Fun,Kid-Friendly,Music,Theatre
ATTACH;FMTTYPE=image/jpeg:https://discoverfoco.com/wp-content/uploads/2023/06/legallyblonde.jpg
ORGANIZER;CN="Forsyth County Arts and Learning Center (FoCAL)":MAILTO:clovell@forsyth.k12.ga.us
END:VEVENT
BEGIN:VEVENT
DTSTART;TZID=America/New_York:20230824T193000
DTEND;TZID=America/New_York:20230824T193000
DTSTAMP:20260419T175138
CREATED:20230613T154720Z
LAST-MODIFIED:20230613T155010Z
UID:10003571-1692905400-1692905400@discoverfoco.com
SUMMARY:Legally Blonde
DESCRIPTION:  \nJoin us for our main stage production of Legally Blonde! \nFor more information visit AudienceView Professional (ovationtix.com)
URL:https://discoverfoco.com/event/legally-blonde/2023-08-24/
LOCATION:Forsyth County Arts and Learning Center (FoCAL)\, 1150 Dahlonega Hwy\, Cumming\, GA\, 30040\, United States
CATEGORIES:Comedy,Community,FoCAL Center,Just for Fun,Kid-Friendly,Music,Theatre
ATTACH;FMTTYPE=image/jpeg:https://discoverfoco.com/wp-content/uploads/2023/06/legallyblonde.jpg
ORGANIZER;CN="Forsyth County Arts and Learning Center (FoCAL)":MAILTO:clovell@forsyth.k12.ga.us
END:VEVENT
BEGIN:VEVENT
DTSTART;TZID=America/New_York:20230824T193000
DTEND;TZID=America/New_York:20230824T193000
DTSTAMP:20260419T175138
CREATED:20230613T154720Z
LAST-MODIFIED:20230613T155010Z
UID:10003578-1692905400-1692905400@discoverfoco.com
SUMMARY:Legally Blonde
DESCRIPTION:  \nJoin us for our main stage production of Legally Blonde! \nFor more information visit AudienceView Professional (ovationtix.com)
URL:https://discoverfoco.com/event/legally-blonde/2023-08-24/
LOCATION:Forsyth County Arts and Learning Center (FoCAL)\, 1150 Dahlonega Hwy\, Cumming\, GA\, 30040\, United States
CATEGORIES:Comedy,Community,FoCAL Center,Just for Fun,Kid-Friendly,Music,Theatre
ATTACH;FMTTYPE=image/jpeg:https://discoverfoco.com/wp-content/uploads/2023/06/legallyblonde.jpg
ORGANIZER;CN="Forsyth County Arts and Learning Center (FoCAL)":MAILTO:clovell@forsyth.k12.ga.us
END:VEVENT
BEGIN:VEVENT
DTSTART;TZID=America/New_York:20230824T193000
DTEND;TZID=America/New_York:20230824T193000
DTSTAMP:20260419T175138
CREATED:20230613T154720Z
LAST-MODIFIED:20230613T155008Z
UID:10003551-1692905400-1692905400@discoverfoco.com
SUMMARY:Legally Blonde
DESCRIPTION:  \nJoin us for our main stage production of Legally Blonde! \nFor more information visit AudienceView Professional (ovationtix.com)
URL:https://discoverfoco.com/event/legally-blonde/2023-08-24/
LOCATION:Forsyth County Arts and Learning Center (FoCAL)\, 1150 Dahlonega Hwy\, Cumming\, GA\, 30040\, United States
CATEGORIES:Comedy,Community,FoCAL Center,Just for Fun,Kid-Friendly,Music,Theatre
ATTACH;FMTTYPE=image/jpeg:https://discoverfoco.com/wp-content/uploads/2023/06/legallyblonde.jpg
ORGANIZER;CN="Forsyth County Arts and Learning Center (FoCAL)":MAILTO:clovell@forsyth.k12.ga.us
END:VEVENT
BEGIN:VEVENT
DTSTART;TZID=America/New_York:20230824T193000
DTEND;TZID=America/New_York:20230824T193000
DTSTAMP:20260419T175138
CREATED:20230613T154720Z
LAST-MODIFIED:20230613T155008Z
UID:10003557-1692905400-1692905400@discoverfoco.com
SUMMARY:Legally Blonde
DESCRIPTION:  \nJoin us for our main stage production of Legally Blonde! \nFor more information visit AudienceView Professional (ovationtix.com)
URL:https://discoverfoco.com/event/legally-blonde/2023-08-24/
LOCATION:Forsyth County Arts and Learning Center (FoCAL)\, 1150 Dahlonega Hwy\, Cumming\, GA\, 30040\, United States
CATEGORIES:Comedy,Community,FoCAL Center,Just for Fun,Kid-Friendly,Music,Theatre
ATTACH;FMTTYPE=image/jpeg:https://discoverfoco.com/wp-content/uploads/2023/06/legallyblonde.jpg
ORGANIZER;CN="Forsyth County Arts and Learning Center (FoCAL)":MAILTO:clovell@forsyth.k12.ga.us
END:VEVENT
BEGIN:VEVENT
DTSTART;TZID=America/New_York:20230820T140000
DTEND;TZID=America/New_York:20230820T170000
DTSTAMP:20260419T175138
CREATED:20230613T154720Z
LAST-MODIFIED:20230613T155009Z
UID:10003563-1692540000-1692550800@discoverfoco.com
SUMMARY:Legally Blonde
DESCRIPTION:  \nJoin us for our main stage production of Legally Blonde! \nFor more information visit AudienceView Professional (ovationtix.com)
URL:https://discoverfoco.com/event/legally-blonde/2023-08-20/
LOCATION:Forsyth County Arts and Learning Center (FoCAL)\, 1150 Dahlonega Hwy\, Cumming\, GA\, 30040\, United States
CATEGORIES:Comedy,Community,FoCAL Center,Just for Fun,Kid-Friendly,Music,Theatre
ATTACH;FMTTYPE=image/jpeg:https://discoverfoco.com/wp-content/uploads/2023/06/legallyblonde.jpg
ORGANIZER;CN="Forsyth County Arts and Learning Center (FoCAL)":MAILTO:clovell@forsyth.k12.ga.us
END:VEVENT
BEGIN:VEVENT
DTSTART;TZID=America/New_York:20230820T140000
DTEND;TZID=America/New_York:20230820T170000
DTSTAMP:20260419T175138
CREATED:20230613T154720Z
LAST-MODIFIED:20230613T155008Z
UID:10003550-1692540000-1692550800@discoverfoco.com
SUMMARY:Legally Blonde
DESCRIPTION:  \nJoin us for our main stage production of Legally Blonde! \nFor more information visit AudienceView Professional (ovationtix.com)
URL:https://discoverfoco.com/event/legally-blonde/2023-08-20/
LOCATION:Forsyth County Arts and Learning Center (FoCAL)\, 1150 Dahlonega Hwy\, Cumming\, GA\, 30040\, United States
CATEGORIES:Comedy,Community,FoCAL Center,Just for Fun,Kid-Friendly,Music,Theatre
ATTACH;FMTTYPE=image/jpeg:https://discoverfoco.com/wp-content/uploads/2023/06/legallyblonde.jpg
ORGANIZER;CN="Forsyth County Arts and Learning Center (FoCAL)":MAILTO:clovell@forsyth.k12.ga.us
END:VEVENT
BEGIN:VEVENT
DTSTART;TZID=America/New_York:20230820T140000
DTEND;TZID=America/New_York:20230820T170000
DTSTAMP:20260419T175138
CREATED:20230613T154720Z
LAST-MODIFIED:20230613T155010Z
UID:10003577-1692540000-1692550800@discoverfoco.com
SUMMARY:Legally Blonde
DESCRIPTION:  \nJoin us for our main stage production of Legally Blonde! \nFor more information visit AudienceView Professional (ovationtix.com)
URL:https://discoverfoco.com/event/legally-blonde/2023-08-20/
LOCATION:Forsyth County Arts and Learning Center (FoCAL)\, 1150 Dahlonega Hwy\, Cumming\, GA\, 30040\, United States
CATEGORIES:Comedy,Community,FoCAL Center,Just for Fun,Kid-Friendly,Music,Theatre
ATTACH;FMTTYPE=image/jpeg:https://discoverfoco.com/wp-content/uploads/2023/06/legallyblonde.jpg
ORGANIZER;CN="Forsyth County Arts and Learning Center (FoCAL)":MAILTO:clovell@forsyth.k12.ga.us
END:VEVENT
BEGIN:VEVENT
DTSTART;TZID=America/New_York:20230820T140000
DTEND;TZID=America/New_York:20230820T170000
DTSTAMP:20260419T175138
CREATED:20230613T154720Z
LAST-MODIFIED:20230613T155010Z
UID:10003570-1692540000-1692550800@discoverfoco.com
SUMMARY:Legally Blonde
DESCRIPTION:  \nJoin us for our main stage production of Legally Blonde! \nFor more information visit AudienceView Professional (ovationtix.com)
URL:https://discoverfoco.com/event/legally-blonde/2023-08-20/
LOCATION:Forsyth County Arts and Learning Center (FoCAL)\, 1150 Dahlonega Hwy\, Cumming\, GA\, 30040\, United States
CATEGORIES:Comedy,Community,FoCAL Center,Just for Fun,Kid-Friendly,Music,Theatre
ATTACH;FMTTYPE=image/jpeg:https://discoverfoco.com/wp-content/uploads/2023/06/legallyblonde.jpg
ORGANIZER;CN="Forsyth County Arts and Learning Center (FoCAL)":MAILTO:clovell@forsyth.k12.ga.us
END:VEVENT
BEGIN:VEVENT
DTSTART;TZID=America/New_York:20230820T140000
DTEND;TZID=America/New_York:20230820T170000
DTSTAMP:20260419T175138
CREATED:20230613T154720Z
LAST-MODIFIED:20230613T155008Z
UID:10003556-1692540000-1692550800@discoverfoco.com
SUMMARY:Legally Blonde
DESCRIPTION:  \nJoin us for our main stage production of Legally Blonde! \nFor more information visit AudienceView Professional (ovationtix.com)
URL:https://discoverfoco.com/event/legally-blonde/2023-08-20/
LOCATION:Forsyth County Arts and Learning Center (FoCAL)\, 1150 Dahlonega Hwy\, Cumming\, GA\, 30040\, United States
CATEGORIES:Comedy,Community,FoCAL Center,Just for Fun,Kid-Friendly,Music,Theatre
ATTACH;FMTTYPE=image/jpeg:https://discoverfoco.com/wp-content/uploads/2023/06/legallyblonde.jpg
ORGANIZER;CN="Forsyth County Arts and Learning Center (FoCAL)":MAILTO:clovell@forsyth.k12.ga.us
END:VEVENT
BEGIN:VEVENT
DTSTART;TZID=America/New_York:20230819T193000
DTEND;TZID=America/New_York:20230819T193000
DTSTAMP:20260419T175138
CREATED:20230613T154720Z
LAST-MODIFIED:20230613T155008Z
UID:10003555-1692473400-1692473400@discoverfoco.com
SUMMARY:Legally Blonde
DESCRIPTION:  \nJoin us for our main stage production of Legally Blonde! \nFor more information visit AudienceView Professional (ovationtix.com)
URL:https://discoverfoco.com/event/legally-blonde/2023-08-19/
LOCATION:Forsyth County Arts and Learning Center (FoCAL)\, 1150 Dahlonega Hwy\, Cumming\, GA\, 30040\, United States
CATEGORIES:Comedy,Community,FoCAL Center,Just for Fun,Kid-Friendly,Music,Theatre
ATTACH;FMTTYPE=image/jpeg:https://discoverfoco.com/wp-content/uploads/2023/06/legallyblonde.jpg
ORGANIZER;CN="Forsyth County Arts and Learning Center (FoCAL)":MAILTO:clovell@forsyth.k12.ga.us
END:VEVENT
BEGIN:VEVENT
DTSTART;TZID=America/New_York:20230819T193000
DTEND;TZID=America/New_York:20230819T193000
DTSTAMP:20260419T175138
CREATED:20230613T154720Z
LAST-MODIFIED:20230613T155008Z
UID:10003549-1692473400-1692473400@discoverfoco.com
SUMMARY:Legally Blonde
DESCRIPTION:  \nJoin us for our main stage production of Legally Blonde! \nFor more information visit AudienceView Professional (ovationtix.com)
URL:https://discoverfoco.com/event/legally-blonde/2023-08-19/
LOCATION:Forsyth County Arts and Learning Center (FoCAL)\, 1150 Dahlonega Hwy\, Cumming\, GA\, 30040\, United States
CATEGORIES:Comedy,Community,FoCAL Center,Just for Fun,Kid-Friendly,Music,Theatre
ATTACH;FMTTYPE=image/jpeg:https://discoverfoco.com/wp-content/uploads/2023/06/legallyblonde.jpg
ORGANIZER;CN="Forsyth County Arts and Learning Center (FoCAL)":MAILTO:clovell@forsyth.k12.ga.us
END:VEVENT
BEGIN:VEVENT
DTSTART;TZID=America/New_York:20230819T193000
DTEND;TZID=America/New_York:20230819T193000
DTSTAMP:20260419T175138
CREATED:20230613T154720Z
LAST-MODIFIED:20230613T155010Z
UID:10003576-1692473400-1692473400@discoverfoco.com
SUMMARY:Legally Blonde
DESCRIPTION:  \nJoin us for our main stage production of Legally Blonde! \nFor more information visit AudienceView Professional (ovationtix.com)
URL:https://discoverfoco.com/event/legally-blonde/2023-08-19/
LOCATION:Forsyth County Arts and Learning Center (FoCAL)\, 1150 Dahlonega Hwy\, Cumming\, GA\, 30040\, United States
CATEGORIES:Comedy,Community,FoCAL Center,Just for Fun,Kid-Friendly,Music,Theatre
ATTACH;FMTTYPE=image/jpeg:https://discoverfoco.com/wp-content/uploads/2023/06/legallyblonde.jpg
ORGANIZER;CN="Forsyth County Arts and Learning Center (FoCAL)":MAILTO:clovell@forsyth.k12.ga.us
END:VEVENT
BEGIN:VEVENT
DTSTART;TZID=America/New_York:20230819T193000
DTEND;TZID=America/New_York:20230819T193000
DTSTAMP:20260419T175138
CREATED:20230613T154720Z
LAST-MODIFIED:20230613T155010Z
UID:10003569-1692473400-1692473400@discoverfoco.com
SUMMARY:Legally Blonde
DESCRIPTION:  \nJoin us for our main stage production of Legally Blonde! \nFor more information visit AudienceView Professional (ovationtix.com)
URL:https://discoverfoco.com/event/legally-blonde/2023-08-19/
LOCATION:Forsyth County Arts and Learning Center (FoCAL)\, 1150 Dahlonega Hwy\, Cumming\, GA\, 30040\, United States
CATEGORIES:Comedy,Community,FoCAL Center,Just for Fun,Kid-Friendly,Music,Theatre
ATTACH;FMTTYPE=image/jpeg:https://discoverfoco.com/wp-content/uploads/2023/06/legallyblonde.jpg
ORGANIZER;CN="Forsyth County Arts and Learning Center (FoCAL)":MAILTO:clovell@forsyth.k12.ga.us
END:VEVENT
BEGIN:VEVENT
DTSTART;TZID=America/New_York:20230819T193000
DTEND;TZID=America/New_York:20230819T193000
DTSTAMP:20260419T175138
CREATED:20230613T154720Z
LAST-MODIFIED:20230613T155009Z
UID:10003562-1692473400-1692473400@discoverfoco.com
SUMMARY:Legally Blonde
DESCRIPTION:  \nJoin us for our main stage production of Legally Blonde! \nFor more information visit AudienceView Professional (ovationtix.com)
URL:https://discoverfoco.com/event/legally-blonde/2023-08-19/
LOCATION:Forsyth County Arts and Learning Center (FoCAL)\, 1150 Dahlonega Hwy\, Cumming\, GA\, 30040\, United States
CATEGORIES:Comedy,Community,FoCAL Center,Just for Fun,Kid-Friendly,Music,Theatre
ATTACH;FMTTYPE=image/jpeg:https://discoverfoco.com/wp-content/uploads/2023/06/legallyblonde.jpg
ORGANIZER;CN="Forsyth County Arts and Learning Center (FoCAL)":MAILTO:clovell@forsyth.k12.ga.us
END:VEVENT
END:VCALENDAR