BEGIN:VCALENDAR
VERSION:2.0
PRODID:-//Discover Forsyth County - ECPv6.15.20//NONSGML v1.0//EN
CALSCALE:GREGORIAN
METHOD:PUBLISH
X-ORIGINAL-URL:https://discoverfoco.com
X-WR-CALDESC:Events for Discover Forsyth County
REFRESH-INTERVAL;VALUE=DURATION:PT1H
X-Robots-Tag:noindex
X-PUBLISHED-TTL:PT1H
BEGIN:VTIMEZONE
TZID:America/New_York
BEGIN:DAYLIGHT
TZOFFSETFROM:-0500
TZOFFSETTO:-0400
TZNAME:EDT
DTSTART:20220313T070000
END:DAYLIGHT
BEGIN:STANDARD
TZOFFSETFROM:-0400
TZOFFSETTO:-0500
TZNAME:EST
DTSTART:20221106T060000
END:STANDARD
BEGIN:DAYLIGHT
TZOFFSETFROM:-0500
TZOFFSETTO:-0400
TZNAME:EDT
DTSTART:20230312T070000
END:DAYLIGHT
BEGIN:STANDARD
TZOFFSETFROM:-0400
TZOFFSETTO:-0500
TZNAME:EST
DTSTART:20231105T060000
END:STANDARD
BEGIN:DAYLIGHT
TZOFFSETFROM:-0500
TZOFFSETTO:-0400
TZNAME:EDT
DTSTART:20240310T070000
END:DAYLIGHT
BEGIN:STANDARD
TZOFFSETFROM:-0400
TZOFFSETTO:-0500
TZNAME:EST
DTSTART:20241103T060000
END:STANDARD
END:VTIMEZONE
BEGIN:VEVENT
DTSTART;VALUE=DATE:20230629
DTEND;VALUE=DATE:20230630
DTSTAMP:20260419T194602
CREATED:20230615T170956Z
LAST-MODIFIED:20230615T170956Z
UID:10003583-1687996800-1688083199@discoverfoco.com
SUMMARY:Pieces and Peaches: Red\, White\, Shop!
DESCRIPTION:
URL:https://discoverfoco.com/event/pieces-and-peaches-red-white-shop/
LOCATION:Pieces and Peaches in the Cumming City Center\, 431 Vision Drive F103\, Cumming\, GA\, 30040\, United States
CATEGORIES:Cumming City Center,Just for Fun,Shopping
ATTACH;FMTTYPE=image/jpeg:https://discoverfoco.com/wp-content/uploads/2023/06/Peaches-e1686665089544.jpg
ORGANIZER;CN="Pieces and Peaches":MAILTO:landcpiecesandpeaches@gmail.com
END:VEVENT
BEGIN:VEVENT
DTSTART;TZID=America/New_York:20230622T160000
DTEND;TZID=America/New_York:20230622T200000
DTSTAMP:20260419T194602
CREATED:20230613T142736Z
LAST-MODIFIED:20230613T142736Z
UID:10003509-1687449600-1687464000@discoverfoco.com
SUMMARY:Pieces and Peaches: Permanent Jewelry Event
DESCRIPTION:  \n  \n \nJoin us for a fun evening of permanent jewelry!
URL:https://discoverfoco.com/event/pieces-and-peaches-permanent-jewelry-event/
LOCATION:Pieces and Peaches in the Cumming City Center\, 431 Vision Drive F103\, Cumming\, GA\, 30040\, United States
ATTACH;FMTTYPE=image/jpeg:https://discoverfoco.com/wp-content/uploads/2023/06/Peaches-e1686665089544.jpg
ORGANIZER;CN="Pieces and Peaches":MAILTO:landcpiecesandpeaches@gmail.com
END:VEVENT
BEGIN:VEVENT
DTSTART;TZID=America/New_York:20230620T170000
DTEND;TZID=America/New_York:20230620T200000
DTSTAMP:20260419T194602
CREATED:20230613T141254Z
LAST-MODIFIED:20230613T141254Z
UID:10003508-1687280400-1687291200@discoverfoco.com
SUMMARY:Pieces and Peaches: Shop with My Fashion Chic!
DESCRIPTION:Come shop with My Fashion Chic’s Jen Pascula from 5-8 p.m.
URL:https://discoverfoco.com/event/pieces-and-peaches-shop-with-my-fashion-chic/
LOCATION:Pieces and Peaches in the Cumming City Center\, 431 Vision Drive F103\, Cumming\, GA\, 30040\, United States
CATEGORIES:Cumming City Center,Just for Fun,Shopping
ATTACH;FMTTYPE=image/jpeg:https://discoverfoco.com/wp-content/uploads/2023/06/Peaches-e1686665089544.jpg
ORGANIZER;CN="Pieces and Peaches":MAILTO:landcpiecesandpeaches@gmail.com
END:VEVENT
END:VCALENDAR